Workbook

Sheet OPĆI DIO
A2: Na temelju članka 42. Zakona o proračunu ("Narodne novine" broj 144/21) i članka 31. Statuta Općine Hlebine ("Službeni glasnik Koprivničko-križevačke županije" broj 10/09, 5/13, 3/18, 6/20, 3/21. i 7/25), Općinsko vijeće Općine Hlebine na 9. sjednici održanoj 24. kolovoza 2026. donijelo je
A5: IZMJENE I DOPUNE PRORAČUNA OPĆINE HLEBINE ZA 2026. GODINU I PROJEKCIJA ZA 2027. I 2028. GODINU
C8: I. OPĆI DIO
B9: Članak 1.
A11: U Proračunu Općine Hlebine za 2026. godinu i projekcijama za 2027. i 2028. godinu ("Službeni glasnik Koprivničko-križevačke županije" broj 34/25), (u daljnjem tekstu: Proračun) u članku 1. mijenjaju se: A. Sažetak računa prihoda i rashoda, B. Sažetak računa financiranja i C. Preneseni višak ili preneseni manjak i D. višegodišnji plan uravnoteženja kako slijedi:
C13: A) SAŽETAK RAČUNA PRIHODA I RASHODA
C15: OPIS | D15: Plan za 2026. godinu | E15: Povećanje/smanjenje | F15: Novi Plan za 2026. godinu
C18: PRIHODI UKUPNO | D18: =+'OPĆI DIO'!D19+D20 -> 1943000 | E18: =+E19 -> -587500 | F18: =+'OPĆI DIO'!F19 -> 1355500
C19: Prihodi poslovanja | D19: =+'PRIHODI I RASHODI EKONOMSKA KLA'!F16+'PRIHODI I RASHODI EKONOMSKA KLA'!F36 -> 1943000 | E19: =+'PRIHODI I RASHODI EKONOMSKA KLA'!G10 -> -587500 | F19: =+'PRIHODI I RASHODI EKONOMSKA KLA'!H10 -> 1355500
C20: Prihodi od prodaje nefinancijske imovine | D20: =+'PRIHODI I RASHODI EKONOMSKA KLA'!F33 -> 0 | E20: 0 | F20: 0
C21: RASHODI UKUPNO | D21: =+D22+D23 -> 1943000 | E21: =+E22+E23 -> -587500 | F21: =+F22+F23 -> 1355500
C22: Rashodi poslovanja | D22: ='PRIHODI I RASHODI EKONOMSKA KLA'!F50 -> 808500 | E22: 43500 | F22: =+'PRIHODI I RASHODI EKONOMSKA KLA'!H50 -> 852000
C23: Rashodi za nabavu nefinancijske imovine | D23: ='PRIHODI I RASHODI EKONOMSKA KLA'!F76 -> 1134500 | E23: -631000 | F23: =+'PRIHODI I RASHODI EKONOMSKA KLA'!H76 -> 503500
C24: RAZLIKA - VIŠAK (+) / MANJAK (-) | D24: =+D18-D21 -> 0 | E24: 0 | F24: =+F18-F21 -> 0
C26: B) SAŽETAK RAČUNA FINANCIRANJA
D28: Plan za 2026. godinu | E28: Povećanje/smanjenje | F28: Novi Plan za 2026. godinu
C29: PRIMICI OD FINANCIJSKE IMOVINE I ZADUŽIVANJA | D29: 0 | E29: =F29-D29 -> 0 | F29: 0
C30: IZDACI ZA FINANCIJSKU IMOVINU I OTPLATE ZAJMOVA | D30: 0 | E30: 0 | F30: 0
C31: NETO FINANCIRANJA | D31: =D29-D30 -> 0 | E31: =F31-D31 -> 0 | F31: =F29-F30 -> 0
C35: C) PRENESENI VIŠAK ILI PRENESENI MANJAK
C37: VIŠAK PRIHODA I PRIMITAKA | D37: Plan za 2026. godinu | E37: Povećanje/smanjenje | F37: Novi Plan za 2026. godinu
C38: UKUPAN DONOS VIŠKA/MANJKA IZ PRETHODNE(IH) GODINE | D38: 0 | E38: 0 | F38: 0
C39: VIŠAK/MANJAK IZ PREDHODNE(IH) GODINE KOJI ĆE SE RASPOREDITI/POKRITI | D39: 0 | E39: 0 | F39: 0
C41: VIŠAK/MANJAK + NETO FINANCIRANJE TEKUĆA GODINA | D41: 0 | E41: 0 | F41: 0
C43: D) VIŠEGODIŠNJI PLAN URAVNOTEŽENJA
D45: Plan za 2026. godinu | E45: Povećanje/smanjenje | F45: Novi Plan za 2026. godinu
C46: PRIJENOS VIŠKA/MANJAK IZ PRETHODNIH GODINA | D46: 0 | E46: 0 | F46: 0
C47: VIŠAK/MANJAK IZ PRETHODNE(IH) GODINA KOJI ĆE SE RASPOREDITI/POKRITI | D47: 0 | E47: 0 | F47: 0
C48: VIŠAK/MANJAK TEKUĆE GODINE | D48: 0 | E48: 0 | F48: 0
C49: PRIJENOS VIŠKA/MANJKA U SLIJEDEĆE RAZDOBLJE | D49: 0 | E49: 0 | F49: 0

Sheet PRIHODI I RASHODI EKONOMSKA KLA
A1: Članak 2.
A3: U članku 2. Prihodi i rashodi po ekonomskoj klasifikaciji i izvorima financiranja utvrđeni u Računu prihoda i rashoda mijenjaju se kako slijedi:
B5: A) RAČUN PRIHODA I RASHODA
B7: PRIHODI POSLOVANJA
A9: Razred | B9: Skupina | C9: Izvor | D9: Naziv prihoda | F9: Plan za 2026. | G9: Povećanje/smanjenje | H9: Novi Plan za 2026.
D10: UKUPNI PRIHODI | F10: =F11+F12+F13+F14+F15+I17 -> 1943000 | G10: =+H10-F10 -> -587500 | H10: =H11+H12+H13+H14+H15 -> 1355500
C11: 11 | D11: Opći prihodi i primici | F11: =F18+F20+F23+F27+F30 -> 1064100 | G11: =+H11-F11 -> -257600 | H11: =H18+H20+H23+H27+H30 -> 806500
C12: 43 | D12: Prihodi za posebne namjene | F12: =F24+F28 -> 74500 | G12: =+H12-F12 -> 7500 | H12: =H24+H28 -> 82000
C13: 52 | D13: Pomoći | F13: =F21 -> 734400 | G13: =+H13-F13 -> -337400 | H13: =H21 -> 397000
C14: 71 | D14: Prihod od prodaje | F14: 10000 | G14: =+H14-F14 -> 0 | H14: =+H32 -> 10000
C15: 43 | D15: Namjenski prihod | F15: 60000 | G15: =+H15-F15 -> 0 | H15: =H25+H37 -> 60000
A16: 6 | D16: Prihodi poslovanja | F16: =+F17+F19+F22+F26+F29+F31 -> 1943000 | G16: =+H16-F16 -> -587500 | H16: =+H17+H19+H22+H26+H29+H31 -> 1355500
B17: 61 | D17: Prihodi od poreza | F17: =+F18 -> 360000 | G17: =+H17-F17 -> 37400 | H17: =+H18 -> 397400
C18: 11 | D18: Opći prihodi i primici | F18: 360000 | G18: =+H18-F18 -> 37400 | H18: 397400
B19: 63 | D19: Pomoći iz inozemstva (darovnice) i unutar općeg proračuna | F19: =+F20+F21 -> 1410400 | G19: =+H19-F19 -> -632400 | H19: =+H20+H21 -> 778000
C20: 11 | D20: Opći prihodi i primici | F20: 676000 | G20: =+H20-F20 -> -295000 | H20: 381000
C21: 52 | D21: Pomoći | F21: 734400 | G21: =+H21-F21 -> -337400 | H21: 397000
B22: 64 | D22: Prihodi od imovine | F22: =F24+F23+F25 -> 119990 | G22: =+H22-F22 -> 7510 | H22: =H24+H23+H25 -> 127500
C23: 11 | D23: Opći prihodi i primici | F23: 25000 | G23: =+H23-F23 -> 0 | H23: =+F23 -> 25000
C24: 43 | D24: Prihodi za posebne namjene | F24: 34990 | G24: =+H24-F24 -> 7510 | H24: 42500
C25: 43 | D25: Namjenski prihod | F25: 60000 | G25: =+H25-F25 -> 0 | H25: =+F25 -> 60000
B26: 65 | D26: Prihodi od administrativnih pristojbi i po posebnim propisima | F26: =F27+F28 -> 41510 | G26: =+H26-F26 -> -10 | H26: =H27+H28 -> 41500
C27: 11 | D27: Opći prihodi i primici | F27: 2000 | G27: =+H27-F27 -> 0 | H27: 2000
C28: 43 | D28: Prihodi za posebne namjene | F28: 39510 | G28: =+H28-F28 -> -10 | H28: 39500
B29: 68 | D29: Kazne, upravne mjere i ostali prihodi | F29: =F30 -> 1100 | G29: =+H29-F29 -> 0 | H29: =H30 -> 1100
C30: 11 | D30: Opći prihodi i primici | F30: 1100 | G30: =+H30-F30 -> 0 | H30: 1100
A31: 7 | D31: Prihodi od prodaje nefinancijske imovine | F31: =F32+F34 -> 10000 | G31: =+H31-F31 -> 0 | H31: =H32+H34 -> 10000
B32: 71 | D32: Prihodi od prodaje neproizvedene dugotrajne imovine | F32: 10000 | G32: =+H32-F32 -> 0 | H32: 10000
C33: 71 | D33: Prihodi od prodaje ili zamjene nefinancijske imovine | F33: 0 | G33: =+H33-F33 -> 0 | H33: 0
B34: 72 | D34: Prihodi od prodaje proizvedene dugotrajne imovine | F34: =F35 -> 0 | G34: =+H34-F34 -> 0 | H34: 0
C35: 72 | D35: Prihodi od prodaje ili zamjene nefinancijske imovine | F35: 0 | G35: =+H35-F35 -> 0 | H35: 0
A36: 8 | D36: Primici od financijske imovine i zaduživanja | F36: =+F37 -> 0 | G36: =+H36-F36 -> 0 | H36: =+H37 -> 0
B37: 84 | D37: Primici od zaduživanja | F37: =F38 -> 0 | G37: =+H37-F37 -> 0 | H37: =H38 -> 0
C38: 80 | D38: Namjenski prihod | F38: 0 | G38: =+H38-F38 -> 0 | H38: 0
B40: RASHODI POSLOVANJA
A42: Razred | B42: Skupina | C42: Izvor | D42: Naziv rashoda | F42: Plan za 2026. | G42: Povećanje/smanjenje | H42: Novi Plan za 2026.
D43: Ukupni rashodi | F43: =F44+F45+F46+F47+F48+F49 -> 1943000 | G43: =+G50+G76 -> -587500 | H43: =H44+H45+H46+H47+H48 -> 1355500
C44: 11 | D44: Opći prihodi i primici | F44: =F51+F77 -> 1147100 | G44: =G51+G77 -> -340600 | H44: =+H51+H77 -> 806500
C45: 43 | D45: Prihodi za posebne namjene | F45: =F52+F78 -> 74500 | G45: =G52+G78 -> 67500 | H45: =+H52+H78 -> 142000
C46: 52 | D46: Pomoći | F46: =F53+F79 -> 651400 | G46: =G53+G79 -> -254400 | H46: =+H53+H79 -> 397000
C47: 71 | D47: Prihod od prodaje | F47: =F80 -> 10000 | G47: =H47-F47 -> 0 | H47: =+H80 -> 10000
C48: 43 | D48: Namjenski prihod | F48: =+F81 -> 60000 | G48: =+G91 -> -60000 | H48: 0
C49: 84 | D49: Primici od zaduženja | F49: =+F54 -> 0 | G49: =H49-F49 -> 0 | H49: =+H54 -> 0
A50: 3 | D50: Rashodi poslovanja | F50: =F51+F52+F53+F54 -> 808500 | G50: =H50-F50 -> 43500 | H50: =H51+H52+H53+H54 -> 852000
C51: 11 | D51: Opći prihodi i primici | F51: =F56+F60+F64+F66+F69+F72 -> 664650 | G51: =H51-F51 -> -23000 | H51: =H56+H60+H64+H66+H69+H72 -> 641650
C52: 43 | D52: Prihodi za posebne namjene | F52: =F57+F61+F73 -> 60050 | G52: =H52-F52 -> 6500 | H52: =H57+H61+H73 -> 66550
C53: 52 | D53: Pomoći | F53: =F58+F62+F67+F70+F74 -> 83800 | G53: =H53-F53 -> 60000 | H53: =H58+H62+H67+H70+H74 -> 143800
C54: 84 | D54: Primici od zaduženja | F54: =F75 -> 0 | G54: =H54-F54 -> 0 | H54: =H75 -> 0
B55: 31 | D55: Rashodi za zaposlene | F55: =F56+F57+F58 -> 126000 | G55: =G56+G57+G58 -> 0 | H55: =+H56+H57+H58 -> 126000
C56: 11 | D56: Opći prihodi i primici | F56: =POSEBNI_DIO!G231+POSEBNI_DIO!G324+POSEBNI_DIO!G331+POSEBNI_DIO!G404 -> 84000 | G56: =H56-F56 -> 0 | H56: =POSEBNI_DIO!I231+POSEBNI_DIO!I324+POSEBNI_DIO!I331+POSEBNI_DIO!I404 -> 84000
C57: 43 | D57: Prihodi za posebne namjene | F57: =POSEBNI_DIO!G405 -> 16000 | G57: =H57-F57 -> 0 | H57: =POSEBNI_DIO!I405 -> 16000
C58: 52 | D58: Pomoći | F58: =POSEBNI_DIO!G232+POSEBNI_DIO!G325+POSEBNI_DIO!G332+POSEBNI_DIO!G435 -> 26000 | G58: =POSEBNI_DIO!H232+POSEBNI_DIO!H325+POSEBNI_DIO!H332+POSEBNI_DIO!H435 -> 0 | H58: =POSEBNI_DIO!I232+POSEBNI_DIO!I325+POSEBNI_DIO!I332+POSEBNI_DIO!I435 -> 26000
B59: 32 | D59: Materijalni rashodi | F59: =F60+F61+F62 -> 187400 | G59: =H59-F59 -> 0 | H59: =H60+H61+H62 -> 187400
C60: 11 | D60: Opći prihodi i primici | F60: =POSEBNI_DIO!G17+POSEBNI_DIO!G47+POSEBNI_DIO!G80+POSEBNI_DIO!G132+POSEBNI_DIO!G156+POSEBNI_DIO!G235+POSEBNI_DIO!G239+POSEBNI_DIO!G243+POSEBNI_DIO!G247+POSEBNI_DIO!G251+POSEBNI_DIO!G256+POSEBNI_DIO!G262+POSEBNI_DIO!G343+POSEBNI_DIO!G351+POSEBNI_DIO!G394+POSEBNI_DIO!G408+POSEBNI_DIO!G417+POSEBNI_DIO!G440+POSEBNI_DIO!G449 -> 135560 | G60: =+H60-F60 -> -6500 | H60: 129060
C61: 43 | D61: Prihodi za posebne namjene | F61: =POSEBNI_DIO!G68+POSEBNI_DIO!G388+POSEBNI_DIO!G395+POSEBNI_DIO!G411 -> 44040 | G61: =+H61-F61 -> 6500 | H61: 50540
C62: 52 | D62: Pomoći | F62: =POSEBNI_DIO!G48+POSEBNI_DIO!G236+POSEBNI_DIO!G252+POSEBNI_DIO!G273+POSEBNI_DIO!G436+POSEBNI_DIO!G441 -> 7800 | G62: =+H62-F62 -> 0 | H62: =POSEBNI_DIO!I48+POSEBNI_DIO!I236+POSEBNI_DIO!I252+POSEBNI_DIO!I273+POSEBNI_DIO!I436+POSEBNI_DIO!I441 -> 7800
B63: 34 | D63: Financijski rashodi | F63: =F64 -> 1200 | G63: =+H63-F63 -> 0 | H63: =H64 -> 1200
C64: 11 | D64: Opći prihodi i primici | F64: =POSEBNI_DIO!G264 -> 1200 | G64: =+H64-F64 -> 0 | H64: =POSEBNI_DIO!I264 -> 1200
B65: 36 | D65: Pomoći dane u inozemstvo i unutar općeg proračuna | F65: =F66+F67 -> 8500 | G65: =+H65-F65 -> 0 | H65: =H66+H67 -> 8500
C66: 11 | D66: Opći prihodi i primici | F66: =POSEBNI_DIO!G18+POSEBNI_DIO!G291+POSEBNI_DIO!G296+POSEBNI_DIO!G373+POSEBNI_DIO!G450 -> 8500 | G66: =+H66-F66 -> 0 | H66: =POSEBNI_DIO!I18+POSEBNI_DIO!I291+POSEBNI_DIO!I296+POSEBNI_DIO!I373+POSEBNI_DIO!I450 -> 8500
C67: 52 | D67: Pomoći | F67: 0 | G67: =+H67-F67 -> 0 | H67: 0
B68: 37 | D68: Naknade građanima i kućanstvima na temelju osoiguranja i druge naknade | F68: =F69+F70 -> 216500 | G68: =H68-F68 -> 0 | H68: =H69+H70 -> 216500
C69: 11 | D69: Opći prihodi i primici | F69: =POSEBNI_DIO!G19+POSEBNI_DIO!G35+POSEBNI_DIO!G74+POSEBNI_DIO!G275+POSEBNI_DIO!G292+POSEBNI_DIO!G302+POSEBNI_DIO!G308+POSEBNI_DIO!G318+POSEBNI_DIO!G124 -> 166500 | G69: =POSEBNI_DIO!H19+POSEBNI_DIO!H35+POSEBNI_DIO!H74+POSEBNI_DIO!H275+POSEBNI_DIO!H292+POSEBNI_DIO!H302+POSEBNI_DIO!H308+POSEBNI_DIO!H318+POSEBNI_DIO!H124 -> 0 | H69: =POSEBNI_DIO!I19+POSEBNI_DIO!I35+POSEBNI_DIO!I74+POSEBNI_DIO!I275+POSEBNI_DIO!I292+POSEBNI_DIO!I302+POSEBNI_DIO!I308+POSEBNI_DIO!I318+POSEBNI_DIO!I124 -> 166500
C70: 52 | D70: Pomoći | F70: =POSEBNI_DIO!G276 -> 50000 | G70: =H70-F70 -> 0 | H70: =POSEBNI_DIO!I276 -> 50000
B71: 38 | D71: Ostali rashodi | F71: =F72+F73+F74+F75 -> 268900 | G71: =H71-F71 -> 43500 | H71: =H72+H73+H74+H75 -> 312400
C72: 11 | D72: Opći prihodi i primici | F72: =POSEBNI_DIO!G23+POSEBNI_DIO!G29+POSEBNI_DIO!G41+POSEBNI_DIO!G51+POSEBNI_DIO!G56+POSEBNI_DIO!G320+POSEBNI_DIO!G345+POSEBNI_DIO!G353+POSEBNI_DIO!G359+POSEBNI_DIO!G365+POSEBNI_DIO!G374+POSEBNI_DIO!G378+POSEBNI_DIO!G565+POSEBNI_DIO!G579+POSEBNI_DIO!G586+POSEBNI_DIO!G592 -> 268890 | G72: =H72-F72 -> -16500 | H72: 252390
C73: 43 | D73: Prihodi za posebne namjene | F73: =POSEBNI_DIO!G379 -> 10 | G73: 0 | H73: 10
C74: 52 | D74: Pomoći | F74: 0 | G74: 60000 | H74: 60000
C75: 84 | D75: Primici od zaduženja | F75: =POSEBNI_DIO!G610 -> 0 | G75: =H75-F75 -> 0 | H75: =POSEBNI_DIO!I610 -> 0
A76: 4 | D76: Rashodi za nabavu nefinancijske imovine | F76: =F77+F78+F79+F80+F81 -> 1134500 | G76: =G77+G78+G79+G80+G81 -> -631000 | H76: =H77+H78+H79+H80+H81 -> 503500
C77: 11 | D77: Opći prihodi i primici | F77: =F83+F87+F93 -> 482450 | G77: =H77-F77 -> -317600 | H77: =H83+H87+H93 -> 164850
C78: 43 | D78: Prihodi za posebne namjene | F78: =F84+F88+F94 -> 14450 | G78: =H78-F78 -> 61000 | H78: =H84+H88+H94 -> 75450
C79: 52 | D79: Pomoći | F79: =F85+F89+F96 -> 567600 | G79: =H79-F79 -> -314400 | H79: =+H85+H89+H96 -> 253200
C80: 71 | D80: Prihod od prodaje | F80: =F90+F95 -> 10000 | G80: =H80-F80 -> 0 | H80: =H90+H95 -> 10000
C81: 84 | D81: Namjenski prihod | F81: =F91+F97 -> 60000 | G81: =H81-F81 -> -60000 | H81: =H91+H97 -> 0
B82: 41 | D82: Rashodi za nabavu neproizvedene dugotrajne imovine | F82: =F83+F84+F85 -> 25000 | G82: =H82-F82 -> 0 | H82: =H83+H84+H85 -> 25000
C83: 11 | D83: Opći prihodi i primici | F83: 15500 | G83: =POSEBNI_DIO!H94+POSEBNI_DIO!H102+POSEBNI_DIO!H110+POSEBNI_DIO!H118+POSEBNI_DIO!H456+POSEBNI_DIO!H497 -> 0 | H83: =POSEBNI_DIO!I94+POSEBNI_DIO!I102+POSEBNI_DIO!I110+POSEBNI_DIO!I118+POSEBNI_DIO!I456+POSEBNI_DIO!I497 -> 15500
C84: 43 | D84: Prihod za posebne namjene | F84: =POSEBNI_DIO!G104+POSEBNI_DIO!G112+POSEBNI_DIO!G96+POSEBNI_DIO!G498 -> 9500 | G84: =POSEBNI_DIO!H104+POSEBNI_DIO!H112+POSEBNI_DIO!H112+POSEBNI_DIO!H96+POSEBNI_DIO!H498 -> 0 | H84: 9500
C85: 52 | D85: Pomoći | F85: =POSEBNI_DIO!G95+POSEBNI_DIO!G111+POSEBNI_DIO!G459+POSEBNI_DIO!G571 -> 0 | G85: =H85-F85 -> 0 | H85: =POSEBNI_DIO!I95+POSEBNI_DIO!I111+POSEBNI_DIO!I459+POSEBNI_DIO!I571 -> 0
B86: 42 | D86: Rashodi za nabavu proizvedene dugotrajne imovine | F86: =F87+F88+F89+F90+F91 -> 1049500 | G86: =G87+G88+G89+G90+G91 -> -721000 | H86: =H87+H88+H89+H90+H91 -> 328500
C87: 11 | D87: Opći prihodi i primici | F87: 406950 | G87: =+H87-F87 -> -317600 | H87: 89350
C88: 43 | D88: Prihodi za posebne namjene | F88: =POSEBNI_DIO!G104+POSEBNI_DIO!G173+POSEBNI_DIO!G425+POSEBNI_DIO!G464+POSEBNI_DIO!G472+POSEBNI_DIO!G487 -> 4950 | G88: =+H88-F88 -> 21000 | H88: 25950
C89: 52 | D89: Pomoći | F89: 567600 | G89: =+H89-F89 -> -354400 | H89: 213200
C90: 71 | D90: Prihod od prodaje | F90: =POSEBNI_DIO!G488 -> 10000 | G90: =POSEBNI_DIO!H488 -> -10000 | H90: =+F90+G90 -> 0
C91: 84 | D91: Namjenski prihod | F91: =POSEBNI_DIO!G490 -> 60000 | G91: =POSEBNI_DIO!H490 -> -60000 | H91: =+F91+G91 -> 0
B92: 45 | D92: Rashodi za dodatna ulaganja na nefinancijskoj imovini | F92: =F93+F94+F96+F97 -> 60000 | G92: =+G93+G94+G95+G96 -> 90000 | H92: =SUM(F92:G92) -> 150000
C93: 11 | D93: Opći prihodi i primici | F93: 60000 | G93: 0 | H93: =SUM(F93:G93) -> 60000
C94: 43 | D94: Prihodi za posebne namjene | F94: =POSEBNI_DIO!G142 -> 0 | G94: 40000 | H94: =SUM(F94:G94) -> 40000
C95: 71 | D95: Prihod od prodaje | F95: 0 | G95: =+POSEBNI_DIO!H503 -> 10000 | H95: =SUM(F95:G95) -> 10000
C96: 52 | D96: Pomoći | F96: 0 | G96: 40000 | H96: =+G96 -> 40000
C97: 84 | D97: Namjenski prihod | F97: =+POSEBNI_DIO!G510 -> 0 | G97: =+H97-F97 -> 0 | H97: =+POSEBNI_DIO!I510 -> 0
A98: 5 | D98: Izdaci za financijsku imov. i otp. zajmova | F98: =F99+F100 -> 0 | G98: =H98-F98 -> 0 | H98: =H99+H100 -> 0
C99: 11 | D99: Opći prihodi i primici | F99: =POSEBNI_DIO!G62 -> 0 | G99: =H99-F99 -> 0 | H99: =POSEBNI_DIO!I62 -> 0
C100: 43 | D100: Prihodi za posebne namjene | F100: 0 | G100: =H100-F100 -> 0 | H100: 0
B101: 54 | D101: Izdaci za otplatu glav. | F101: =POSEBNI_DIO!G64 -> 0 | G101: =H101-F101 -> 0 | H101: =POSEBNI_DIO!I64 -> 0

Sheet RASHODI PREMA FUNKCIJSKOJ KLASI
A2: Članak 3.
A4: U članku 3. Rashodi prema funkcijskoj klasifikaciji mijenjaju se kako slijedi:
A6: RASHODI PREMA FUNKCIJSKOJ KLASIFIKACIJI
A8: BROJČANA OZNAKA I NAZIV | B8: Plan za 2026. godinu | C8: Povećanje/smanjenje | D8: Novi plan za 2026. godinu
A9: UKUPNI RASHODI | B9: =B10+B13+B15+B17+B23+B26+B31+B35+B39 -> 1943000 | C9: =C10+C13+C15+C17+C23+C26+C31+C35+C39 -> -587500 | D9: =D10+D13+D15+D17+D23+D26+D31+D35+D39 -> 1355500
A10: 01 Opće javne usluge | B10: =+B11+B12 -> 193800 | C10: =+C11+C12 -> 0 | D10: =+D11+D12 -> 193800
A11: 011 Izvršna i zakonodavna tijela, financijski i fiskalni poslovi | B11: =+POSEBNI_DIO!G14+POSEBNI_DIO!G22+POSEBNI_DIO!G28+POSEBNI_DIO!G40+POSEBNI_DIO!G46+POSEBNI_DIO!G61+POSEBNI_DIO!G79+POSEBNI_DIO!G259 -> 68800 | C11: =+POSEBNI_DIO!H14+POSEBNI_DIO!H22+POSEBNI_DIO!H28+POSEBNI_DIO!H40+POSEBNI_DIO!H46+POSEBNI_DIO!H61+POSEBNI_DIO!H79+POSEBNI_DIO!H259 -> 0 | D11: =+POSEBNI_DIO!I14+POSEBNI_DIO!I22+POSEBNI_DIO!I28+POSEBNI_DIO!I40+POSEBNI_DIO!I46+POSEBNI_DIO!I61+POSEBNI_DIO!I79+POSEBNI_DIO!I259 -> 68800
A12: 013 Opće usluge | B12: =+POSEBNI_DIO!G230 -> 125000 | C12: =+POSEBNI_DIO!H230 -> 0 | D12: =+POSEBNI_DIO!I230 -> 125000
A13: 02 Obrana | B13: =B14 -> 3700 | C13: =C14 -> 0 | D13: =D14 -> 3700
A14: 022 Civilna obrana | B14: =+POSEBNI_DIO!G340 -> 3700 | C14: =+POSEBNI_DIO!H340 -> 0 | D14: =+POSEBNI_DIO!I340 -> 3700
A15: 03 Javni red i sigurnost | B15: =B16 -> 21500 | C15: =C16 -> 0 | D15: =D16 -> 21500
A16: 032 Usluge protupožarne zaštite | B16: =+POSEBNI_DIO!G348 -> 21500 | C16: =+POSEBNI_DIO!H348 -> 0 | D16: =+POSEBNI_DIO!I348 -> 21500
A17: 04 Ekonomski poslovi | B17: =B18+B19+B20+B21+B22 -> 204300 | C17: =C18+C19+C20+C21+C22 -> 226500 | D17: =D18+D19+D20+D21+D22 -> 430800
A18: 042 Poljoprivreda | B18: =+POSEBNI_DIO!G67 -> 500 | C18: =+POSEBNI_DIO!H67 -> 0 | D18: =+POSEBNI_DIO!I67 -> 500
A19: 043 Gorivo i energija | B19: =+POSEBNI_DIO!G238+POSEBNI_DIO!G242+POSEBNI_DIO!G246+POSEBNI_DIO!G410 -> 10500 | C19: =+POSEBNI_DIO!H238+POSEBNI_DIO!H242+POSEBNI_DIO!H246+POSEBNI_DIO!H410 -> 0 | D19: =+POSEBNI_DIO!I238+POSEBNI_DIO!I242+POSEBNI_DIO!I246+POSEBNI_DIO!I410 -> 10500
A20: 045 Cestovni promet | B20: =+POSEBNI_DIO!G591+POSEBNI_DIO!G508+POSEBNI_DIO!G495+POSEBNI_DIO!G393+POSEBNI_DIO!G598+POSEBNI_DIO!G556 -> 183000 | C20: =+POSEBNI_DIO!H591+POSEBNI_DIO!H508+POSEBNI_DIO!H495+POSEBNI_DIO!H393+POSEBNI_DIO!H598+POSEBNI_DIO!H548+POSEBNI_DIO!H541+POSEBNI_DIO!H598+POSEBNI_DIO!H556 -> 226500 | D20: =+POSEBNI_DIO!I591+POSEBNI_DIO!I508+POSEBNI_DIO!I495+POSEBNI_DIO!I393+POSEBNI_DIO!I598+POSEBNI_DIO!I548+POSEBNI_DIO!I541+POSEBNI_DIO!I598+POSEBNI_DIO!I556 -> 409500
A21: 046 Komunikacije | B21: =+POSEBNI_DIO!G250 -> 4000 | C21: =+POSEBNI_DIO!H250 -> 0 | D21: =+POSEBNI_DIO!I250 -> 4000
A22: 047 Turizam | B22: =+POSEBNI_DIO!G55 -> 6300 | C22: =+POSEBNI_DIO!H55 -> 0 | D22: =+POSEBNI_DIO!I55 -> 6300
A23: 05 Zaštita okoliša | B23: =+B24+B25 -> 12500 | C23: =+C24+C25 -> 0 | D23: =+D24+D25 -> 12500
A24: 051 Gospodarenje otpadom | B24: =+POSEBNI_DIO!G416 -> 12500 | C24: =+POSEBNI_DIO!H416 -> 0 | D24: =+POSEBNI_DIO!I416 -> 12500
A25: 052 Gospodarenje otpadnim vodama | B25: =+POSEBNI_DIO!G564 -> 0 | C25: =+POSEBNI_DIO!H564 -> 0 | D25: =+POSEBNI_DIO!I564 -> 0
A26: 06 Usluge unapređenja stanovanja i zajednice | B26: =B27+B28+B29+B30 -> 1258200 | C26: =C27+C28+C29+C30 -> -817500 | D26: =D27+D28+D29+D30 -> 440700
A27: 062 Razvoj zajednice | B27: =+POSEBNI_DIO!G73+POSEBNI_DIO!G93+POSEBNI_DIO!G101+POSEBNI_DIO!G109+POSEBNI_DIO!G117+POSEBNI_DIO!G123+POSEBNI_DIO!G131+POSEBNI_DIO!G140+POSEBNI_DIO!G148+POSEBNI_DIO!G166+POSEBNI_DIO!G184+POSEBNI_DIO!G191+POSEBNI_DIO!G198+POSEBNI_DIO!G205+POSEBNI_DIO!G212+POSEBNI_DIO!G219+POSEBNI_DIO!G422+POSEBNI_DIO!G516+POSEBNI_DIO!G522+POSEBNI_DIO!G528+POSEBNI_DIO!G535+POSEBNI_DIO!G585+POSEBNI_DIO!G609 -> 397500 | C27: =+POSEBNI_DIO!H73+POSEBNI_DIO!H93+POSEBNI_DIO!H101+POSEBNI_DIO!H109+POSEBNI_DIO!H117+POSEBNI_DIO!H123+POSEBNI_DIO!H131+POSEBNI_DIO!H140+POSEBNI_DIO!H148+POSEBNI_DIO!H166+POSEBNI_DIO!H184+POSEBNI_DIO!H191+POSEBNI_DIO!H198+POSEBNI_DIO!H205+POSEBNI_DIO!H212+POSEBNI_DIO!H219+POSEBNI_DIO!H422+POSEBNI_DIO!H516+POSEBNI_DIO!H522+POSEBNI_DIO!H528+POSEBNI_DIO!H535+POSEBNI_DIO!H585+POSEBNI_DIO!H609 -> -312500 | D27: =+POSEBNI_DIO!I73+POSEBNI_DIO!I93+POSEBNI_DIO!I101+POSEBNI_DIO!I109+POSEBNI_DIO!I117+POSEBNI_DIO!I123+POSEBNI_DIO!I131+POSEBNI_DIO!I140+POSEBNI_DIO!I148+POSEBNI_DIO!I166+POSEBNI_DIO!I184+POSEBNI_DIO!I191+POSEBNI_DIO!I198+POSEBNI_DIO!I205+POSEBNI_DIO!I212+POSEBNI_DIO!I219+POSEBNI_DIO!I422+POSEBNI_DIO!I516+POSEBNI_DIO!I522+POSEBNI_DIO!I528+POSEBNI_DIO!I535+POSEBNI_DIO!I585+POSEBNI_DIO!I609 -> 85000
A28: 063 Opskrba vodom | B28: =+POSEBNI_DIO!G255+POSEBNI_DIO!G575 -> 201500 | C28: =+POSEBNI_DIO!H255+POSEBNI_DIO!H575 -> 0 | D28: =+POSEBNI_DIO!I255+POSEBNI_DIO!I575 -> 201500
A29: 064 Ulična rasvjeta | B29: =+POSEBNI_DIO!G455+POSEBNI_DIO!G387 -> 12000 | C29: =+POSEBNI_DIO!H455+POSEBNI_DIO!H387 -> 0 | D29: =+POSEBNI_DIO!I455+POSEBNI_DIO!I387 -> 12000
A30: 066 Rashodi vezani uz stanovanje i komunalne pogodnosti | B30: =+POSEBNI_DIO!G155+POSEBNI_DIO!G172+POSEBNI_DIO!G178+POSEBNI_DIO!G403+POSEBNI_DIO!G432+POSEBNI_DIO!G439+POSEBNI_DIO!G446+POSEBNI_DIO!G463+POSEBNI_DIO!G471+POSEBNI_DIO!G479+POSEBNI_DIO!G485 -> 647200 | C30: =+POSEBNI_DIO!H155+POSEBNI_DIO!H172+POSEBNI_DIO!H178+POSEBNI_DIO!H403+POSEBNI_DIO!H432+POSEBNI_DIO!H439+POSEBNI_DIO!H446+POSEBNI_DIO!H463+POSEBNI_DIO!H471+POSEBNI_DIO!H479+POSEBNI_DIO!H485 -> -505000 | D30: =+POSEBNI_DIO!I155+POSEBNI_DIO!I172+POSEBNI_DIO!I178+POSEBNI_DIO!I403+POSEBNI_DIO!I432+POSEBNI_DIO!I439+POSEBNI_DIO!I446+POSEBNI_DIO!I463+POSEBNI_DIO!I471+POSEBNI_DIO!I479+POSEBNI_DIO!I485 -> 142200
A31: 08 Rekreacija, kultura i religija | B31: =B32+B33+B34 -> 32000 | C31: =C32+C33+C34 -> 3500 | D31: =D32+D33+D34 -> 35500
A32: 081 Službe rekreacije i sporta | B32: =+POSEBNI_DIO!G364+POSEBNI_DIO!G370 -> 22000 | C32: =+POSEBNI_DIO!H364+POSEBNI_DIO!H370 -> 0 | D32: =+POSEBNI_DIO!I364+POSEBNI_DIO!I370 -> 22000
A33: 082 Služba kulture | B33: =+POSEBNI_DIO!G358 -> 3000 | C33: =+POSEBNI_DIO!H358 -> 0 | D33: =+POSEBNI_DIO!I358 -> 3000
A34: 084 Religijske i druge službe | B34: =+POSEBNI_DIO!G377 -> 7000 | C34: =+POSEBNI_DIO!H377 -> 3500 | D34: =+POSEBNI_DIO!I377 -> 10500
A35: 09 Obrazovanje | B35: =B36+B37+B38 -> 178000 | C35: =C36+C37+C38 -> 0 | D35: =D36+D37+D38 -> 178000
A36: 091 Predškolsko i osnovno obrazovanje | B36: =+POSEBNI_DIO!G271+POSEBNI_DIO!G288+POSEBNI_DIO!G295+POSEBNI_DIO!G279 -> 173500 | C36: =+POSEBNI_DIO!H271+POSEBNI_DIO!H288+POSEBNI_DIO!H295+POSEBNI_DIO!H279 -> 0 | D36: =+POSEBNI_DIO!I271+POSEBNI_DIO!I288+POSEBNI_DIO!I295+POSEBNI_DIO!I279 -> 173500
A37: 092 Srednjoškolsko obrazovanje | B37: =+POSEBNI_DIO!G301 -> 2500 | C37: =+POSEBNI_DIO!H301 -> 0 | D37: =+POSEBNI_DIO!I301 -> 2500
A38: 094 Visoka naobrazba | B38: =+POSEBNI_DIO!G307 -> 2000 | C38: =+POSEBNI_DIO!H307 -> 0 | D38: =+POSEBNI_DIO!I307 -> 2000
A39: 10 Socijalna zaštita | B39: =B40+B41+B42 -> 39000 | C39: =C40+C41+C42 -> 0 | D39: =D40+D41+D42 -> 39000
A40: 102 Starost | B40: =+POSEBNI_DIO!G323+POSEBNI_DIO!G330 -> 0 | C40: =+POSEBNI_DIO!H323+POSEBNI_DIO!H330 -> 0 | D40: =+POSEBNI_DIO!I323+POSEBNI_DIO!I330 -> 0
A41: 106 Stanovanje | B41: =+POSEBNI_DIO!G34 -> 16000 | C41: =+POSEBNI_DIO!H34 -> 0 | D41: =+POSEBNI_DIO!I34 -> 16000
A42: 109 Aktivnosti socijalne zaštite koji nisu drugdje svrstani | B42: =+POSEBNI_DIO!G315 -> 23000 | C42: =+POSEBNI_DIO!H315 -> 0 | D42: =+POSEBNI_DIO!I315 -> 23000

Sheet RAČUN FINANCIRANJA
B1: B) RAČUN FINANCIRANJA
A2: Članak 4.
A4: Primici i izdaci po ekonomskoj klasifikaciji i izvorima financiranja utvrđeni u Računu financiranja u Proračunu i projekcijama za 2026. i 2027. godinu mijenjaju se kako slijedi:
A6: Razred | B6: Skupina | C6: Izvor | D6: Naziv | H6: Plan za 2026. | J6: Povećanje/smanjenje | L6: Novi plan za 2026.
A7: 8 | D7: Primici od financijske imovine i zaduživanja | H7: =H8 -> 0 | J7: =L7-H7 -> 0 | L7: 0
B8: 84 | D8: Primici od zaduživanja | H8: =H9+H10 -> 0 | J8: =L8-H8 -> 0 | L8: 0
C9: 11 | D9: Opći prihodi i primici | H9: 0 | J9: =L9-H9 -> 0 | L9: 0
C10: 84 | D10: Namjenski primici od zaduživnaja | H10: 0 | J10: =L10-H10 -> 0 | L10: 0
A11: 5 | D11: Izdaci za financijsku imov. i otp. zajmova | H11: =H12+H13 -> 0 | J11: =L11-H11 -> 0 | L11: 0
B12: 53 | D12: Izdaci za dionice i udjele uglavnici | H12: 0 | J12: =L12-H12 -> 0 | L12: 0
B13: 54 | D13: Izdaci za otplatu glav. | H13: =H14 -> 0 | J13: =L13-H13 -> 0 | L13: 0
C14: 11 | D14: Opći prihodi i primici | H14: 0 | J14: =L14-H14 -> 0 | L14: 0

Sheet List1

Sheet POSEBNI_DIO
C1: II. POSEBNI DIO
A2: Članak 5.
A3: U članku 5. Rashodi poslovanja i rashodi za nabavu nefinancijske imovine iskazani u Proračunu i projekcijama za 2026. i 2027. godinu, raspoređenih po korisnicima i programima u Posebnim dijelu Proračuna, mijenjaju se kako slijedi:
A5: Razred | B5: Skupina | C5: Podskupina | D5: Šifra programska Program/Projekt/Aktivnost | F5: VRSTA RASHODA I IZDATAKA | G5: PLAN 2026. GODINE | H5: POVEĆANJE/ SMANJENJE | I5: NOVI PLAN ZA 2026. GODINU
F8: UKUPNO RASHODI/ IZDACI | G8: =+G9+G225+G266+G383 -> 1943000 | H8: =+H9+H225+H266+H383 -> -587500 | I8: =+I9+I225+I266+I383 -> 1355500
F9: RAZDJEL 001 OPĆINSKO VIJEĆE I OPĆINSKI NAČELNIK | G9: =SUM(G10) -> 494600 | H9: =SUM(H10) -> -350000 | I9: =SUM(I10) -> 144600
F10: GLAVA 00101 OPĆINSKO VIJEĆE I OPĆINSKI NAČELNIK | G10: =+G11+G128 -> 494600 | H10: =+H11+H128 -> -350000 | I10: =+I11+I128 -> 144600
F11: PROGRAM 1001 OPĆINSKO VIJEĆE I OPĆINSKI NAČELNIK | G11: =+G13+G21+G27+G33+G39+G45+G54+G60+G66+G72+G78+G92+G84+G100+G108+G116+G122 -> 122400 | H11: =+H13+H21+H27+H33+H39+H45+H54+H60+H66+H72+H78+H92+H84+H100+H108+H116+H122 -> 0 | I11: =+I13+I21+I27+I33+I39+I45+I54+I60+I66+I72+I78+I92+I84+I100+I108+I116+I122 -> 122400
D13: A 1001 01 | E13: Redovan rad predstavničkog i izvršnog tijela | G13: =G14 -> 52200 | H13: =H14 -> 0 | I13: =I14 -> 52200
E14: 0111 | F14: Funkcijska klasifikacija: 0111 Izvršna i zakonodavna tijela | G14: =+G15 -> 52200 | H14: =+H15 -> 0 | I14: =+I15 -> 52200
F15: IZVOR FINANCIRANJA: 11 OPĆI PRIHODI I PRIMICI | G15: =+G16 -> 52200 | H15: =+H16 -> 0 | I15: =+I16 -> 52200
A16: 3 | F16: Rashodi poslovanja | G16: =+G17+G18+G19 -> 52200 | H16: =+H17+H18+H19 -> 0 | I16: =+I17+I18+I19 -> 52200
B17: 32 | F17: Materijalni rashodi | G17: 50200 | H17: 0 | I17: 50200
B18: 36 | F18: Pomoći dane u inozemstvo i unutar općeg proračuna | G18: 2000 | H18: =I18-G18 -> 0 | I18: 2000
B19: 37 | F19: Naknade građanima i kućanstvima na temelju osiguranja i dr. naknade | G19: 0 | H19: 0 | I19: 0
D21: A 1001 02 | E21: Rad političkih stranaka | G21: =G22 -> 1500 | H21: =H22 -> 0 | I21: =+G21-H21 -> 1500
E22: 0111 | F22: Funkcijska klasifikacija: 0111 Izvršna i zakonodavna tijela | G22: =G23 -> 1500 | H22: =H23 -> 0 | I22: =+G22-H22 -> 1500
F23: IZVOR FINANCIRANJA: 11 OPĆI PRIHODI I PRIMICI | G23: =G24 -> 1500 | H23: =H24 -> 0 | I23: =+G23-H23 -> 1500
A24: 3 | F24: Rashodi poslovanja | G24: =G25 -> 1500 | H24: =H25 -> 0 | I24: =+G24-H24 -> 1500
B25: 38 | F25: Ostali rashodi | G25: 1500 | H25: 0 | I25: =+G25-H25 -> 1500
D27: A 1001 03 | E27: Sponzorstva | G27: =G28 -> 1200 | H27: =H28 -> 0 | I27: =+G27-H27 -> 1200
E28: 0111 | F28: Funkcijska klasifikacija: 0111 Izvršna i zakonodavna tijela | G28: =G29 -> 1200 | H28: =H29 -> 0 | I28: =+G28-H28 -> 1200
F29: IZVOR FINANCIRANJA: 11 OPĆI PRIHODI I PRIMICI | G29: =G30 -> 1200 | H29: =H30 -> 0 | I29: =+G29-H29 -> 1200
A30: 3 | F30: Rashodi poslovanja | G30: =SUM(G31) -> 1200 | H30: =SUM(H31) -> 0 | I30: =+G30-H30 -> 1200
B31: 38 | F31: Ostali rashodi | G31: 1200 | H31: 0 | I31: =+G31-H31 -> 1200
D33: A 1001 04 | E33: Razvoj stanovanja | G33: =G34 -> 16000 | H33: =H34 -> 0 | I33: =+G33-H33 -> 16000
E34: 1060 | F34: Funkcijska klasifikacija: 1060 Stanovanje | G34: =G35 -> 16000 | H34: =H35 -> 0 | I34: =+G34-H34 -> 16000
F35: IZVOR FINANCIRANJA: 11 OPĆI PRIHODI I PRIMICI | G35: =G36 -> 16000 | H35: =H36 -> 0 | I35: =+G35-H35 -> 16000
A36: 3 | F36: Rashodi poslovanja | G36: =G37 -> 16000 | H36: =H37 -> 0 | I36: =+G36-H36 -> 16000
B37: 37 | F37: Naknade građanima i kućanstvma na tem.osig. i dr.naknade | G37: 16000 | H37: 0 | I37: =+G37-H37 -> 16000
D39: A 1001 05 | E39: Rad vijeća nacionalnih manjina | G39: =G40 -> 700 | H39: =H40 -> 0 | I39: =I40 -> 700
E40: 0111 | F40: Funkcijska klasifikacija: 0111 Izvršna i zakonodavna tijela | G40: =G41 -> 700 | H40: =H41 -> 0 | I40: =I41 -> 700
F41: IZVOR FINANCIRANJA: 11 OPĆI PRIHODI I PRIMICI | G41: =G42 -> 700 | H41: =I41-G41 -> 0 | I41: =I42 -> 700
A42: 3 | F42: Rashodi poslovanja | G42: =G43 -> 700 | H42: =H43 -> 0 | I42: =I43 -> 700
B43: 38 | F43: Ostali rashodi | G43: 700 | H43: =I43-G43 -> 0 | I43: 700
D45: A 1001 06 | E45: Izbori | G45: =G46 -> 0 | H45: =H46 -> 0 | I45: =I46 -> 0
E46: 0111 | F46: Funkcijska klasifikacija: 0111 Izvršna i zakonodavna tijela | G46: 0 | H46: =H47+H48+H51 -> 0 | I46: 0
F47: IZVOR FINANCIRANJA: 11 OPĆI PRIHODI I PRIMICI | G47: 0 | H47: 0 | I47: 0
F48: IZVOR FINANCIRANJA: 52 POMOĆI | G48: 0 | H48: 0 | I48: 0
A49: 3 | F49: Rashodi poslovanja | G49: =G50 -> 0 | H49: =H50 -> 0 | I49: 0
B50: 32 | F50: Materijalni rashodi | G50: 0 | H50: 0 | I50: 0
F51: IZVOR FINANCIRANJA: 11 OPĆI PRIHODI I PRIMICI | G51: 0 | H51: =I51-G51 -> 0 | I51: 0
B52: 38 | F52: Ostali rashodi | G52: 0 | H52: =I52-G52 -> 0 | I52: 0
D54: A 1001 07 | E54: Turizam | G54: =+G55 -> 6300 | H54: =+H55 -> 0 | I54: =+G54-H54 -> 6300
E55: 0473 | F55: Funkcijska klasifikacija: 0473 Turizam | G55: =+G57 -> 6300 | H55: =+H57 -> 0 | I55: =+G55-H55 -> 6300
F56: IZVOR FINANCIRANJA: 11 OPĆI PRIHODI I PRIMICI | G56: =+G57 -> 6300 | H56: 0 | I56: =+G56-H56 -> 6300
A57: 3 | F57: Rashodi poslovanja | G57: =+G58 -> 6300 | H57: =+H58 -> 0 | I57: =+G57-H57 -> 6300
B58: 38 | F58: Ostali rashodi | G58: 6300 | H58: 0 | I58: =+G58-H58 -> 6300
D60: A 1001 08 | E60: Povrat kratkoročnih zajmova | G60: =G61 -> 0 | H60: =H61 -> 0 | I60: =I61 -> 0
E61: 0111 | F61: Funkcijska klasifikacija: 0111 Izvršna i zakonodavna tijela | G61: =G63 -> 0 | H61: =H63 -> 0 | I61: =I63 -> 0
F62: IZVOR FINANCIRANJA: 11 OPĆI PRIHODI I PRIMICI | G62: =+G63 -> 0 | H62: =I62-G62 -> 0 | I62: =+I63 -> 0
A63: 5 | F63: Izdaci za financijsku imovinu i otplate zajmova | G63: =G64 -> 0 | H63: =H64 -> 0 | I63: =I64 -> 0
B64: 54 | F64: Izdaci za otplatu glavnice primljenih kredita i zajmova | G64: 0 | H64: =I64-G64 -> 0 | I64: 0
D66: A 1001 09 | E66: Poljoprivreda | G66: =+G67 -> 500 | H66: =+H67 -> 0 | I66: =+I67 -> 500
E67: 0421 | F67: Funkcijska klasifikacija: 0421 Poljoprivreda | G67: =G68 -> 500 | H67: =H68 -> 0 | I67: =I68 -> 500
F68: IZVOR FINANCIRANJA: 43 PRIHODI ZA POSEBNE NAMJENE | G68: =G69 -> 500 | H68: =H69 -> 0 | I68: =I69 -> 500
A69: 3 | F69: Rashodi poslovanja | G69: =G70 -> 500 | H69: =H70 -> 0 | I69: =I70 -> 500
B70: 32 | F70: Materijalni rashodi | G70: 500 | H70: 0 | I70: 500
D72: A 1001 10 | E72: Poticanje energetskog razvoja kućanstva | G72: =G73 -> 5000 | H72: =H73 -> 0 | I72: =I73 -> 5000
E73: 0620 | F73: Funkcijska klasifikacija: 0620 Razvoj zajednice | G73: =G74 -> 5000 | H73: =H74 -> 0 | I73: =I74 -> 5000
F74: IZVOR FINANCIRANJA: 11 OPĆI PRIHODI I PRIMICI | G74: =G75 -> 5000 | H74: =H75 -> 0 | I74: =I75 -> 5000
A75: 3 | F75: Rashodi poslovanja | G75: =G76 -> 5000 | H75: =H76 -> 0 | I75: =I76 -> 5000
B76: 37 | F76: Naknade građanima i kućanstvima na temelju osiguranja i dr. naknade | G76: 5000 | H76: 0 | I76: 5000
D78: A 1001 11 | E78: Manifestacije | G78: =G79 -> 9000 | H78: =H79 -> 0 | I78: =I79 -> 9000
E79: 0111 | F79: Funkcijska klasifikacija: 0111 Izvršna i zakonodavna tijela | G79: =G80 -> 9000 | H79: =H80 -> 0 | I79: =I80 -> 9000
F80: IZVOR FINANCIRANJA: 11 OPĆI PRIHODI I PRIMICI | G80: =G81 -> 9000 | H80: 0 | I80: =I81 -> 9000
A81: 3 | F81: Rashodi poslovanja | G81: =+G82 -> 9000 | H81: =+H82 -> 0 | I81: =+I82 -> 9000
B82: 32 | F82: Materijalni rashodi | G82: 9000 | H82: 0 | I82: 9000
D84: A 1001 12 | E84: Povrat dugoročnih kredita | G84: =G85 -> 0 | H84: =H85 -> 0 | I84: =I85 -> 0
E85: 0111 | F85: Funkcijska klasifikacija: 0111 Izvršna i zakonodavna tijela | G85: =G88 -> 0 | H85: =H88 -> 0 | I85: =I88 -> 0
F86: IZVOR FINANCIRANJA: 11 OPĆI PRIHODI I PRIMICI | G86: 0 | H86: 0 | I86: 0
F87: IZVOR FINANCIRANJA: 43 PRIHODI ZA POSEBNE NAMJENE | G87: 0 | H87: 0 | I87: 0
A88: 5 | F88: Izdaci za financijsku imovinu i otplate zajmova | G88: =G89 -> 0 | H88: =H89 -> 0 | I88: =I89 -> 0
B89: 54 | F89: Izdaci za otplatu glavnice primljenih kredita i zajmova | G89: 0 | H89: 0 | I89: 0
D92: K 1001 01 | E92: Nematerijalna imovina | G92: =+G93 -> 10000 | H92: =+H93 -> 0 | I92: =+I93 -> 10000
E93: 0620 | F93: Funkcijska klasifikacija: 0620 Razvoj zajednice | G93: =+G94+G95+G96 -> 10000 | H93: =+H94+H95+H96 -> 0 | I93: =+I94+I95+I96 -> 10000
F94: IZVOR FINANCIRANJA: 11 OPĆI PRIHODI I PRIMICI | G94: =+G97-G95-G96 -> 10000 | H94: 0 | I94: =+I97-I95-I96 -> 10000
F95: IZVOR FINANCIRANJA: 52 POMOĆI | G95: 0 | H95: 0 | I95: 0
F96: IZVOR FINANCIRANJA: 43 PRIHODI ZA POSEBNE NAMJENE | G96: 0 | H96: =I96-G96 -> 0 | I96: 0
A97: 4 | F97: Rashodi za nabavu nefinancijske imovine | G97: =+G98 -> 10000 | H97: 0 | I97: 10000
B98: 41 | F98: Rashodi za nabavu neproizvedene dugotrajne imovine | G98: 10000 | H98: 0 | I98: 10000
D100: K 1001 02 | E100: Izrada prostornog plana uređenja Općine Hlebine | G100: =+G101 -> 0 | H100: 0 | I100: =+I101 -> 0
E101: 0620 | F101: Funkcijska klasifikacija: 0620 Razvoj zajednice | G101: =+G102+G103+G104 -> 0 | H101: =+H102+H103+H104 -> 0 | I101: =+I102+I103+I104 -> 0
F102: IZVOR FINANCIRANJA: 11 OPĆI PRIHODI I PRIMICI | G102: 0 | H102: =I102-G102 -> 0 | I102: =+I105-I103-I104 -> 0
F103: IZVOR FINANCIRANJA: 52 POMOĆI | G103: 0 | H103: 0 | I103: 0
F104: IZVOR FINANCIRANJA: 43 PRIHODI ZA POSEBNE NAMJENE | G104: 0 | H104: =I104-G104 -> 0 | I104: 0
A105: 4 | F105: Rashodi za nabavu nefinancijske imovine | G105: =+G138+G106 -> 0 | H105: 0 | I105: =+I138+I106 -> 0
B106: 42 | F106: Rashodi za nabavu proizvedene dugotrajne imovine | G106: 0 | H106: 0 | I106: 0
D108: K 1001 03 | E108: Digitalizacija - snimka groblja | G108: =+G109 -> 15000 | H108: 0 | I108: =+I109 -> 15000
E109: 0620 | F109: Funkcijska klasifikacija: 0620 Razvoj zajednice | G109: =+G110+G111+G112 -> 15000 | H109: 0 | I109: =+I110+I111+I112 -> 15000
F110: IZVOR FINANCIRANJA: 11 OPĆI PRIHODI I PRIMICI | G110: =+G113-G111-G112 -> 5500 | H110: 0 | I110: =+I113-I111-I112 -> 5500
F111: IZVOR FINANCIRANJA: 52 POMOĆI | G111: 0 | H111: =I111-G111 -> 0 | I111: 0
F112: IZVOR FINANCIRANJA: 43 PRIHODI ZA POSEBNE NAMJENE | G112: 9500 | H112: 0 | I112: 9500
A113: 4 | F113: Rashodi za nabavu nefinancijske imovine | G113: =+G114 -> 15000 | H113: 0 | I113: =+I114 -> 15000
B114: 41 | F114: Rashodi za nabavu neproizvedene dugotrajne imovine | G114: 15000 | H114: 0 | I114: 15000
D116: K 1001 04 | E116: Izrada plana rasvjete Općine Hlebine | G116: =+G117 -> 0 | H116: =+H117 -> 0 | I116: =+I117 -> 0
E117: 0620 | F117: Funkcijska klasifikacija: 0620 Razvoj zajednice | G117: =+G118 -> 0 | H117: =+H118 -> 0 | I117: =+I118 -> 0
F118: IZVOR FINANCIRANJA: 11 OPĆI PRIHODI I PRIMICI | G118: =+G119 -> 0 | H118: =+H119 -> 0 | I118: =+I119 -> 0
A119: 4 | F119: Rashodi za nabavu nefinancijske imovine | G119: =G120 -> 0 | H119: 0 | I119: =I120 -> 0
B120: 41 | F120: Rashodi za nabavu neproizvedene dugotrajne imovine | G120: 0 | H120: 0 | I120: 0
...
