Workbook

Sheet OPĆI DIO
A2: Na temelju članka 42. Zakona o proračunu ("Narodne novine" broj 144/21) i članka 31. Statuta Općine Hlebine ("Službeni glasnik Koprivničko-križevačke županije" broj 10/09, 5/13, 3/18, 6/20, 3/21. i 7/25), Općinsko vijeće Općine Hlebine na 5. sjednici održanoj 15. prosinca 2025. donijelo je
A5: IZMJENE I DOPUNE PRORAČUNA OPĆINE HLEBINE ZA 2025. GODINU I PROJEKCIJA ZA 2026. I 2027. GODINU
C8: I. OPĆI DIO
B9: Članak 1.
A11: U Proračunu Općine Hlebine za 2025. godinu i projekcijama za 2026. i 2027. godinu ("Službeni glasnik Koprivničko-križevačke županije" broj 30/24), (u daljnjem tekstu: Proračun) u članku 1. mijenjaju se: A. Sažetak računa prihoda i rashoda, B. Sažetak računa financiranja i C. Preneseni višak ili preneseni manjak i D. višegodišnji plan uravnoteženja kako slijedi:
C13: A) SAŽETAK RAČUNA PRIHODA I RASHODA
C15: OPIS | D15: Plan za 2025. godinu | E15: Povećanje/smanjenje | F15: Novi Plan za 2025. godinu
C18: PRIHODI UKUPNO | D18: =+'OPĆI DIO'!D19+D20 -> 2700000 | E18: =+E19 -> -1442500 | F18: =+'OPĆI DIO'!F19 -> 1257500
C19: Prihodi poslovanja | D19: =+'PRIHODI I RASHODI EKONOMSKA KLA'!F16+'PRIHODI I RASHODI EKONOMSKA KLA'!F36 -> 2700000 | E19: =+'PRIHODI I RASHODI EKONOMSKA KLA'!G10 -> -1442500 | F19: =+'PRIHODI I RASHODI EKONOMSKA KLA'!H10 -> 1257500
C20: Prihodi od prodaje nefinancijske imovine | D20: =+'PRIHODI I RASHODI EKONOMSKA KLA'!F33 -> 0 | E20: 0 | F20: 0
C21: RASHODI UKUPNO | D21: =+D22+D23 -> 2700000 | E21: =+E22+E23 -> -1374000 | F21: =+F22+F23 -> 1326000
C22: Rashodi poslovanja | D22: ='PRIHODI I RASHODI EKONOMSKA KLA'!F50 -> 1435000 | E22: =+'PRIHODI I RASHODI EKONOMSKA KLA'!G50 -> -788841 | F22: =+'PRIHODI I RASHODI EKONOMSKA KLA'!H50 -> 646159
C23: Rashodi za nabavu nefinancijske imovine | D23: ='PRIHODI I RASHODI EKONOMSKA KLA'!F76 -> 1265000 | E23: =+'PRIHODI I RASHODI EKONOMSKA KLA'!G76 -> -585159 | F23: =+'PRIHODI I RASHODI EKONOMSKA KLA'!H76 -> 679841
C24: RAZLIKA - VIŠAK (+) / MANJAK (-) | D24: =+D18-D21 -> 0 | E24: =+E18-E21 -> -68500 | F24: =+F18-F21 -> -68500
C26: B) SAŽETAK RAČUNA FINANCIRANJA
D28: Plan za 2025. godinu | E28: Povećanje/smanjenje | F28: Novi Plan za 2025. godinu
C29: PRIMICI OD FINANCIJSKE IMOVINE I ZADUŽIVANJA | D29: 900000 | E29: =F29-D29 -> -900000 | F29: 0
C30: IZDACI ZA FINANCIJSKU IMOVINU I OTPLATE ZAJMOVA | D30: 0 | E30: 0 | F30: 0
C31: NETO FINANCIRANJA | D31: =D29-D30 -> 900000 | E31: =F31-D31 -> -900000 | F31: =F29-F30 -> 0
C35: C) PRENESENI VIŠAK ILI PRENESENI MANJAK
C37: VIŠAK PRIHODA I PRIMITAKA | D37: Plan za 2025. godinu | E37: Povećanje/smanjenje | F37: Novi Plan za 2025. godinu
C38: UKUPAN DONOS VIŠKA/MANJKA IZ PRETHODNE(IH) GODINE | D38: 0 | E38: =+F38-D38 -> 86679.79 | F38: 86679.79
C39: VIŠAK/MANJAK IZ PREDHODNE(IH) GODINE KOJI ĆE SE RASPOREDITI/POKRITI | D39: 0 | E39: 0 | F39: 0
C41: VIŠAK/MANJAK + NETO FINANCIRANJE TEKUĆA GODINA | D41: 0 | E41: 0 | F41: 0
C43: D) VIŠEGODIŠNJI PLAN URAVNOTEŽENJA
D45: Plan za 2025. godinu | E45: Povećanje/smanjenje | F45: Novi Plan za 2025. godinu
C46: PRIJENOS VIŠKA/MANJAK IZ PRETHODNIH GODINA | D46: 0 | E46: 0 | F46: 0
C47: VIŠAK/MANJAK IZ PRETHODNE(IH) GODINA KOJI ĆE SE RASPOREDITI/POKRITI | D47: 0 | E47: 0 | F47: 0
C48: VIŠAK/MANJAK TEKUĆE GODINE | D48: 0 | E48: 0 | F48: 0
C49: PRIJENOS VIŠKA/MANJKA U SLIJEDEĆE RAZDOBLJE | D49: 0 | E49: 0 | F49: 0

Sheet PRIHODI I RASHODI EKONOMSKA KLA
A1: Članak 2.
A3: U članku 2. Prihodi i rashodi po ekonomskoj klasifikaciji i izvorima financiranja utvrđeni u Računu prihoda i rashoda mijenjaju se kako slijedi:
B5: A) RAČUN PRIHODA I RASHODA
B7: PRIHODI POSLOVANJA
A9: Razred | B9: Skupina | C9: Izvor | D9: Naziv prihoda | F9: Plan za 2025. | G9: Povećanje/smanjenje | H9: Novi Plan za 2025.
D10: UKUPNI PRIHODI | F10: =F11+F12+F13+F14+F15+I17 -> 2700000 | G10: =G11+G12+G13+G14+G15+J17 -> -1442500 | H10: =H11+H12+H13+H14+H15 -> 1257500
C11: 10 | D11: Opći prihodi i primici | F11: =F18+F20+F23+F27+F30 -> 642800 | G11: =G18+G20+G23+G27+G30 -> 239698.02 | H11: =H18+H20+H23+H27+H30 -> 882498.02
C12: 40 | D12: Prihodi za posebne namjene | F12: =F24+F28 -> 139000 | G12: =G24+G28 -> -80455 | H12: =H24+H28 -> 58545
C13: 50 | D13: Pomoći | F13: =F21 -> 943200 | G13: =G21 -> -676743.02 | H13: =H21 -> 266456.98
C14: 70 | D14: Prihod od prodaje | F14: =F33+F35 -> 0 | G14: =G33+G35 -> 0 | H14: =H33+H35 -> 0
C15: 80 | D15: Namjenski prihod | F15: =F25+F37 -> 975000 | G15: =G25+G37 -> -925000 | H15: =H25+H37 -> 50000
A16: 6 | D16: Prihodi poslovanja | F16: =+F17+F19+F22+F26+F29 -> 1800000 | G16: =+G17+G19+G22+G26+G29 -> -542500 | H16: =+H17+H19+H22+H26+H29 -> 1257500
B17: 61 | D17: Prihodi od poreza | F17: =+F18 -> 354800 | G17: =+G18 -> 15948.02 | H17: =+H18 -> 370748.02
C18: 10 | D18: Opći prihodi i primici | F18: 354800 | G18: =H18-F18 -> 15948.02 | H18: 370748.02
B19: 63 | D19: Pomoći iz inozemstva (darovnice) i unutar općeg proračuna | F19: =+F20+F21 -> 1203200 | G19: =+G20+G21 -> -543543.02 | H19: =+H20+H21 -> 659656.98
C20: 10 | D20: Opći prihodi i primici | F20: 260000 | G20: =H20-F20 -> 133200 | H20: 393200
C21: 50 | D21: Pomoći | F21: 943200 | G21: =H21-F21 -> -676743.02 | H21: 266456.98
B22: 64 | D22: Prihodi od imovine | F22: =F24+F23+F25 -> 205000 | G22: =G24+G23+G25 -> -11505 | H22: =H24+H23+H25 -> 193495
C23: 10 | D23: Opći prihodi i primici | F23: 25000 | G23: =H23-F23 -> 90000 | H23: 115000
C24: 40 | D24: Prihodi za posebne namjene | F24: 105000 | G24: =H24-F24 -> -76505 | H24: 28495
C25: 80 | D25: Namjenski prihod | F25: 75000 | G25: =H25-F25 -> -25000 | H25: 50000
B26: 65 | D26: Prihodi od administrativnih pristojbi i po posebnim propisima | F26: =F27+F28 -> 36000 | G26: =G27+G28 -> -3950 | H26: =H27+H28 -> 32050
C27: 10 | D27: Opći prihodi i primici | F27: 2000 | G27: =H27-F27 -> 0 | H27: 2000
C28: 40 | D28: Prihodi za posebne namjene | F28: 34000 | G28: =H28-F28 -> -3950 | H28: 30050
B29: 68 | D29: Kazne, upravne mjere i ostali prihodi | F29: =F30 -> 1000 | G29: =G30 -> 550 | H29: =H30 -> 1550
C30: 10 | D30: Opći prihodi i primici | F30: 1000 | G30: =H30-F30 -> 550 | H30: 1550
A31: 7 | D31: Prihodi od prodaje nefinancijske imovine | F31: =F32+F34 -> 0 | G31: =G32+G34 -> 0 | H31: =H32+H34 -> 0
B32: 71 | D32: Prihodi od prodaje neproizvedene dugotrajne imovine | F32: =+F33 -> 0 | G32: =+G33 -> 0 | H32: =+H33 -> 0
C33: 70 | D33: Prihodi od prodaje ili zamjene nefinancijske imovine | F33: 0 | G33: =H33-F33 -> 0 | H33: 0
B34: 72 | D34: Prihodi od prodaje proizvedene dugotrajne imovine | F34: =F35 -> 0 | G34: =H34-F34 -> 0 | H34: 0
C35: 70 | D35: Prihodi od prodaje ili zamjene nefinancijske imovine | F35: 0 | G35: =H35-F35 -> 0 | H35: 0
A36: 8 | D36: Primici od financijske imovine i zaduživanja | F36: =+F37 -> 900000 | G36: =+G37 -> -900000 | H36: =+H37 -> 0
B37: 84 | D37: Primici od zaduživanja | F37: =F38 -> 900000 | G37: =G38 -> -900000 | H37: =H38 -> 0
C38: 80 | D38: Namjenski prihod | F38: 900000 | G38: =H38-F38 -> -900000 | H38: 0
B40: RASHODI POSLOVANJA
A42: Razred | B42: Skupina | C42: Izvor | D42: Naziv rashoda | F42: Plan za 2025. | G42: Povećanje/smanjenje | H42: Novi Plan za 2025.
D43: Ukupni rashodi | F43: =F44+F45+F46+F47+F48+F49 -> 2700000 | G43: =H43-F43 -> -1374000 | H43: =H44+H45+H46+H47+H48 -> 1326000
C44: 10 | D44: Opći prihodi i primici | F44: =F51+F77 -> 642800 | G44: =H44-F44 -> 302148.02 | H44: =H51+H77 -> 944948.02
C45: 40 | D45: Prihodi za posebne namjene | F45: =F52+F78 -> 139000 | G45: =H45-F45 -> -80455 | H45: =H52+H78 -> 58545
C46: 50 | D46: Pomoći | F46: =F53+F79 -> 943200 | G46: =H46-F46 -> -670693.02 | H46: =H53+H79 -> 272506.98
C47: 70 | D47: Prihod od prodaje | F47: =F80 -> 0 | G47: =H47-F47 -> 0 | H47: =H80 -> 0
C48: 80 | D48: Namjenski prihod | F48: =+F81 -> 75000 | G48: =H48-F48 -> -25000 | H48: =+H81 -> 50000
C49: 84 | D49: Primici od zaduženja | F49: =+F54 -> 900000 | G49: =H49-F49 -> -900000 | H49: =+H54 -> 0
A50: 3 | D50: Rashodi poslovanja | F50: =F51+F52+F53+F54 -> 1435000 | G50: =H50-F50 -> -788841 | H50: =H51+H52+H53+H54 -> 646159
C51: 10 | D51: Opći prihodi i primici | F51: =F56+F60+F64+F66+F69+F72 -> 381200 | G51: =H51-F51 -> 109752.02 | H51: =H56+H60+H64+H66+H69+H72 -> 490952.02
C52: 40 | D52: Prihodi za posebne namjene | F52: =F57+F61+F73 -> 54500 | G52: =H52-F52 -> -50 | H52: =H57+H61+H73 -> 54450
C53: 50 | D53: Pomoći | F53: =F58+F62+F67+F70+F74 -> 99300 | G53: =H53-F53 -> 1456.98 | H53: =H58+H62+H67+H70+H74 -> 100756.98
C54: 84 | D54: Primici od zaduženja | F54: =F75 -> 900000 | G54: =H54-F54 -> -900000 | H54: =H75 -> 0
B55: 31 | D55: Rashodi za zaposlene | F55: =F56+F57+F58 -> 111800 | G55: =G56+G57+G58 -> 11000 | H55: =H56+H57+H58 -> 122800
C56: 10 | D56: Opći prihodi i primici | F56: =POSEBNI_DIO!G202+POSEBNI_DIO!G294+POSEBNI_DIO!G301+POSEBNI_DIO!G372 -> 75300 | G56: =H56-F56 -> 12200 | H56: =POSEBNI_DIO!I202+POSEBNI_DIO!I294+POSEBNI_DIO!I301+POSEBNI_DIO!I372 -> 87500
C57: 40 | D57: Prihodi za posebne namjene | F57: =POSEBNI_DIO!G373 -> 11500 | G57: =H57-F57 -> -5500 | H57: =POSEBNI_DIO!I373 -> 6000
C58: 50 | D58: Pomoći | F58: =POSEBNI_DIO!G203+POSEBNI_DIO!G295+POSEBNI_DIO!G302+POSEBNI_DIO!G403 -> 25000 | G58: =POSEBNI_DIO!H203+POSEBNI_DIO!H295+POSEBNI_DIO!H302+POSEBNI_DIO!H403 -> 4300 | H58: =POSEBNI_DIO!I203+POSEBNI_DIO!I295+POSEBNI_DIO!I302+POSEBNI_DIO!I403 -> 29300
B59: 32 | D59: Materijalni rashodi | F59: =F60+F61+F62 -> 184104 | G59: =H59-F59 -> -19866 | H59: =H60+H61+H62 -> 164238
C60: 10 | D60: Opći prihodi i primici | F60: =POSEBNI_DIO!G17+POSEBNI_DIO!G47+POSEBNI_DIO!G80+POSEBNI_DIO!G131+POSEBNI_DIO!G155+POSEBNI_DIO!G206+POSEBNI_DIO!G210+POSEBNI_DIO!G214+POSEBNI_DIO!G218+POSEBNI_DIO!G222+POSEBNI_DIO!G227+POSEBNI_DIO!G233+POSEBNI_DIO!G313+POSEBNI_DIO!G320+POSEBNI_DIO!G362+POSEBNI_DIO!G376+POSEBNI_DIO!G385+POSEBNI_DIO!G408+POSEBNI_DIO!G417 -> 126814 | G60: =H60-F60 -> -4032.98 | H60: =POSEBNI_DIO!I17+POSEBNI_DIO!I47+POSEBNI_DIO!I80+POSEBNI_DIO!I131+POSEBNI_DIO!I155+POSEBNI_DIO!I206+POSEBNI_DIO!I210+POSEBNI_DIO!I214+POSEBNI_DIO!I218+POSEBNI_DIO!I222+POSEBNI_DIO!I227+POSEBNI_DIO!I233+POSEBNI_DIO!I313+POSEBNI_DIO!I320+POSEBNI_DIO!I362+POSEBNI_DIO!I408+POSEBNI_DIO!I417+POSEBNI_DIO!I385 -> 122781.02
C61: 40 | D61: Prihodi za posebne namjene | F61: =POSEBNI_DIO!G68+POSEBNI_DIO!G356+POSEBNI_DIO!G363+POSEBNI_DIO!G379 -> 42990 | G61: =H61-F61 -> -22990 | H61: =POSEBNI_DIO!I68+POSEBNI_DIO!I356+POSEBNI_DIO!I363+POSEBNI_DIO!I379+POSEBNI_DIO!I376 -> 20000
C62: 50 | D62: Pomoći | F62: =POSEBNI_DIO!G48+POSEBNI_DIO!G207+POSEBNI_DIO!G223+POSEBNI_DIO!G243+POSEBNI_DIO!G404+POSEBNI_DIO!G409 -> 14300 | G62: =H62-F62 -> 7156.98 | H62: =POSEBNI_DIO!I48+POSEBNI_DIO!I207+POSEBNI_DIO!I223+POSEBNI_DIO!I243+POSEBNI_DIO!I404+POSEBNI_DIO!I409 -> 21456.98
B63: 34 | D63: Financijski rashodi | F63: =F64 -> 1500 | G63: =H63-F63 -> -150 | H63: =H64 -> 1350
C64: 10 | D64: Opći prihodi i primici | F64: =POSEBNI_DIO!G234 -> 1500 | G64: =H64-F64 -> -150 | H64: =POSEBNI_DIO!I234 -> 1350
B65: 36 | D65: Pomoći dane u inozemstvo i unutar općeg proračuna | F65: =F66+F67 -> 10200 | G65: =H65-F65 -> -3985 | H65: =H66+H67 -> 6215
C66: 10 | D66: Opći prihodi i primici | F66: =POSEBNI_DIO!G18+POSEBNI_DIO!G261+POSEBNI_DIO!G266+POSEBNI_DIO!G341+POSEBNI_DIO!G418 -> 10200 | G66: =H66-F66 -> -3985 | H66: =POSEBNI_DIO!I18+POSEBNI_DIO!I261+POSEBNI_DIO!I266+POSEBNI_DIO!I341+POSEBNI_DIO!I418 -> 6215
C67: 50 | D67: Pomoći | F67: 0 | G67: =H67-F67 -> 0 | H67: 0
B68: 37 | D68: Naknade građanima i kućanstvima na temelju osoiguranja i druge naknade | F68: =F69+F70 -> 152000 | G68: =H68-F68 -> 15370 | H68: =H69+H70 -> 167370
C69: 10 | D69: Opći prihodi i primici | F69: =POSEBNI_DIO!G19+POSEBNI_DIO!G35+POSEBNI_DIO!G74+POSEBNI_DIO!G93+POSEBNI_DIO!G245+POSEBNI_DIO!G262+POSEBNI_DIO!G272+POSEBNI_DIO!G278+POSEBNI_DIO!G288 -> 92000 | G69: =POSEBNI_DIO!H19+POSEBNI_DIO!H35+POSEBNI_DIO!H74+POSEBNI_DIO!H93+POSEBNI_DIO!H245+POSEBNI_DIO!H262+POSEBNI_DIO!H272+POSEBNI_DIO!H278+POSEBNI_DIO!H288 -> 25370 | H69: =POSEBNI_DIO!I19+POSEBNI_DIO!I35+POSEBNI_DIO!I74+POSEBNI_DIO!I93+POSEBNI_DIO!I245+POSEBNI_DIO!I262+POSEBNI_DIO!I272+POSEBNI_DIO!I278+POSEBNI_DIO!I288 -> 117370
C70: 50 | D70: Pomoći | F70: =POSEBNI_DIO!G246 -> 60000 | G70: =H70-F70 -> -10000 | H70: =POSEBNI_DIO!I246 -> 50000
B71: 38 | D71: Ostali rashodi | F71: =F72+F73+F74+F75 -> 975396 | G71: =H71-F71 -> -791210 | H71: =H72+H73+H74+H75 -> 184186
C72: 10 | D72: Opći prihodi i primici | F72: =POSEBNI_DIO!G23+POSEBNI_DIO!G29+POSEBNI_DIO!G41+POSEBNI_DIO!G51+POSEBNI_DIO!G56+POSEBNI_DIO!G289+POSEBNI_DIO!G314+POSEBNI_DIO!G321+POSEBNI_DIO!G327+POSEBNI_DIO!G333+POSEBNI_DIO!G342+POSEBNI_DIO!G346+POSEBNI_DIO!G518+POSEBNI_DIO!G531+POSEBNI_DIO!G537+POSEBNI_DIO!G543 -> 75386 | G72: =H72-F72 -> 80350 | H72: =POSEBNI_DIO!I23+POSEBNI_DIO!I29+POSEBNI_DIO!I41+POSEBNI_DIO!I51+POSEBNI_DIO!I56+POSEBNI_DIO!I289+POSEBNI_DIO!I314+POSEBNI_DIO!I321+POSEBNI_DIO!I327+POSEBNI_DIO!I333+POSEBNI_DIO!I342+POSEBNI_DIO!I346+POSEBNI_DIO!I518+POSEBNI_DIO!I531+POSEBNI_DIO!I537+POSEBNI_DIO!I543-POSEBNI_DIO!I525+POSEBNI_DIO!I550 -> 155736
C73: 40 | D73: Prihodi za posebne namjene | F73: =POSEBNI_DIO!G347 -> 10 | G73: =H73-F73 -> 28440 | H73: =POSEBNI_DIO!I347+POSEBNI_DIO!I519 -> 28450
C74: 50 | D74: Pomoći | F74: 0 | G74: =H74-F74 -> 0 | H74: =+POSEBNI_DIO!I520 -> 0
C75: 84 | D75: Primici od zaduženja | F75: =POSEBNI_DIO!G561 -> 900000 | G75: =H75-F75 -> -900000 | H75: =POSEBNI_DIO!I561 -> 0
A76: 4 | D76: Rashodi za nabavu nefinancijske imovine | F76: =F77+F78+F79+F80+F81 -> 1265000 | G76: =G77+G78+G79+G80+G81 -> -585159 | H76: =H77+H78+H79+H80+H81 -> 679841
C77: 10 | D77: Opći prihodi i primici | F77: =F83+F87+F93 -> 261600 | G77: =H77-F77 -> 192396 | H77: =H83+H87+H93 -> 453996
C78: 40 | D78: Prihodi za posebne namjene | F78: =F84+F88+F94 -> 84500 | G78: =H78-F78 -> -80405 | H78: =H84+H88+H94 -> 4095
C79: 50 | D79: Pomoći | F79: =F85+F89+F95 -> 843900 | G79: =G85+G89+G95 -> -672150 | H79: =H85+H89+H95 -> 171750
C80: 70 | D80: Prihod od prodaje | F80: =F90 -> 0 | G80: =H80-F80 -> 0 | H80: =H90 -> 0
C81: 80 | D81: Namjenski prihod | F81: =F91+F96 -> 75000 | G81: =G91+G96 -> -25000 | H81: =H91+H96 -> 50000
B82: 41 | D82: Rashodi za nabavu neproizvedene dugotrajne imovine | F82: =F83+F84+F85 -> 30000 | G82: =H82-F82 -> 3625 | H82: =H83+H84+H85 -> 33625
C83: 10 | D83: Opći prihodi i primici | F83: =POSEBNI_DIO!G99+POSEBNI_DIO!G107+POSEBNI_DIO!G115+POSEBNI_DIO!G123 -> 30000 | G83: =H83-F83 -> -6170 | H83: =POSEBNI_DIO!I99+POSEBNI_DIO!I107+POSEBNI_DIO!I115+POSEBNI_DIO!I123+POSEBNI_DIO!I466 -> 23830
C84: 40 | D84: Prihod za posebne namjene | F84: =POSEBNI_DIO!G109+POSEBNI_DIO!G117+POSEBNI_DIO!G117 -> 0 | G84: =H84-F84 -> 4095 | H84: =POSEBNI_DIO!I109+POSEBNI_DIO!I117+POSEBNI_DIO!I467 -> 4095
C85: 50 | D85: Pomoći | F85: =POSEBNI_DIO!G100+POSEBNI_DIO!G116+POSEBNI_DIO!G427+POSEBNI_DIO!G524 -> 0 | G85: =H85-F85 -> 5700 | H85: =POSEBNI_DIO!I100+POSEBNI_DIO!I116+POSEBNI_DIO!I427+POSEBNI_DIO!I524 -> 5700
B86: 42 | D86: Rashodi za nabavu proizvedene dugotrajne imovine | F86: =F87+F88+F89+F90+F91 -> 1065000 | G86: =H86-F86 -> -931975 | H86: =H87+H88+H89+H90+H91 -> 133025
C87: 10 | D87: Opći prihodi i primici | F87: =POSEBNI_DIO!G135+POSEBNI_DIO!G148+POSEBNI_DIO!G166+POSEBNI_DIO!G178+POSEBNI_DIO!G184+POSEBNI_DIO!G191+POSEBNI_DIO!G250+POSEBNI_DIO!G391+POSEBNI_DIO!G424+POSEBNI_DIO!G433+POSEBNI_DIO!G441+POSEBNI_DIO!G448+POSEBNI_DIO!G454+POSEBNI_DIO!G477+POSEBNI_DIO!G485+POSEBNI_DIO!G491+POSEBNI_DIO!G504+POSEBNI_DIO!G510+POSEBNI_DIO!G550 -> 141600 | G87: =H87-F87 -> -88325 | H87: =POSEBNI_DIO!I135+POSEBNI_DIO!I148+POSEBNI_DIO!I166+POSEBNI_DIO!I178+POSEBNI_DIO!I184+POSEBNI_DIO!I191+POSEBNI_DIO!I250+POSEBNI_DIO!I391+POSEBNI_DIO!I424+POSEBNI_DIO!I433+POSEBNI_DIO!I441+POSEBNI_DIO!I448+POSEBNI_DIO!I454+POSEBNI_DIO!I485+POSEBNI_DIO!I491+POSEBNI_DIO!I504+POSEBNI_DIO!I510+POSEBNI_DIO!I554 -> 53275
C88: 40 | D88: Prihodi za posebne namjene | F88: =POSEBNI_DIO!G109+POSEBNI_DIO!G172+POSEBNI_DIO!G366+POSEBNI_DIO!G393+POSEBNI_DIO!G432+POSEBNI_DIO!G440+POSEBNI_DIO!G455 -> 84500 | G88: =H88-F88 -> -84500 | H88: =POSEBNI_DIO!I109+POSEBNI_DIO!I172+POSEBNI_DIO!I366+POSEBNI_DIO!I393+POSEBNI_DIO!I432+POSEBNI_DIO!I440 -> 0
C89: 50 | D89: Pomoći | F89: =+POSEBNI_DIO!G100+POSEBNI_DIO!G108+POSEBNI_DIO!G116+POSEBNI_DIO!G149+POSEBNI_DIO!G185+POSEBNI_DIO!G192+POSEBNI_DIO!G251+POSEBNI_DIO!G392+POSEBNI_DIO!G425+POSEBNI_DIO!G434+POSEBNI_DIO!G442+POSEBNI_DIO!G457+POSEBNI_DIO!G479+POSEBNI_DIO!G511+POSEBNI_DIO!G551 -> 763900 | G89: =H89-F89 -> -684150 | H89: =POSEBNI_DIO!I149+POSEBNI_DIO!I185+POSEBNI_DIO!I192+POSEBNI_DIO!I251+POSEBNI_DIO!I392+POSEBNI_DIO!I425+POSEBNI_DIO!I434+POSEBNI_DIO!I442+POSEBNI_DIO!I457+POSEBNI_DIO!I511+POSEBNI_DIO!I551+POSEBNI_DIO!I108 -> 79750
C90: 70 | D90: Prihod od prodaje | F90: =POSEBNI_DIO!G456 -> 0 | G90: =H90-F90 -> 0 | H90: =POSEBNI_DIO!I456 -> 0
C91: 80 | D91: Namjenski prihod | F91: =POSEBNI_DIO!G458 -> 75000 | G91: =POSEBNI_DIO!H458 -> -75000 | H91: =POSEBNI_DIO!I458 -> 0
B92: 45 | D92: Rashodi za dodatna ulaganja na nefinancijskoj imovini | F92: =F93+F94+F95+F96 -> 170000 | G92: =H92-F92 -> 343191 | H92: =H93+H94+H95+H96 -> 513191
C93: 10 | D93: Opći prihodi i primici | F93: =POSEBNI_DIO!G140+POSEBNI_DIO!G159+POSEBNI_DIO!G500+POSEBNI_DIO!G533+POSEBNI_DIO!G470 -> 90000 | G93: =H93-F93 -> 286891 | H93: =POSEBNI_DIO!I140+POSEBNI_DIO!I159+POSEBNI_DIO!I500+POSEBNI_DIO!I533+POSEBNI_DIO!I477+POSEBNI_DIO!I470+POSEBNI_DIO!I525 -> 376891
C94: 40 | D94: Prihodi za posebne namjene | F94: =POSEBNI_DIO!G141 -> 0 | G94: =H94-F94 -> 0 | H94: =POSEBNI_DIO!I141 -> 0
C95: 50 | D95: Pomoći | F95: =POSEBNI_DIO!G142+POSEBNI_DIO!G160+POSEBNI_DIO!G472 -> 80000 | G95: =H95-F95 -> 6300 | H95: =POSEBNI_DIO!I142+POSEBNI_DIO!I160+POSEBNI_DIO!I479+POSEBNI_DIO!I472 -> 86300
C96: 80 | D96: Namjenski prihod | F96: =+POSEBNI_DIO!G478 -> 0 | G96: =+H96-F96 -> 50000 | H96: =+POSEBNI_DIO!I478 -> 50000
A97: 5 | D97: Izdaci za financijsku imov. i otp. zajmova | F97: =F98+F99 -> 0 | G97: =H97-F97 -> 0 | H97: =H98+H99 -> 0
C98: 10 | D98: Opći prihodi i primici | F98: =POSEBNI_DIO!G62 -> 0 | G98: =H98-F98 -> 0 | H98: =POSEBNI_DIO!I62 -> 0
C99: 40 | D99: Prihodi za posebne namjene | F99: 0 | G99: =H99-F99 -> 0 | H99: 0
B100: 54 | D100: Izdaci za otplatu glav. | F100: =POSEBNI_DIO!G64 -> 0 | G100: =H100-F100 -> 0 | H100: =POSEBNI_DIO!I64 -> 0

Sheet RASHODI PREMA FUNKCIJSKOJ KLASI
A2: Članak 3.
A4: U članku 3. Rashodi prema funkcijskoj klasifikaciji mijenjaju se kako slijedi:
A6: RASHODI PREMA FUNKCIJSKOJ KLASIFIKACIJI
A8: BROJČANA OZNAKA I NAZIV | B8: Plan za 2025. godinu | C8: Povećanje/smanjenje | D8: Novi plan za 2025. godinu
A9: UKUPNI RASHODI | B9: =B10+B13+B15+B17+B23+B26+B31+B35+B39 -> 2700000 | C9: =C10+C13+C15+C17+C23+C26+C31+C35+C39 -> -1373100 | D9: =D10+D13+D15+D17+D23+D26+D31+D35+D39 -> 1326000
A10: 01 Opće javne usluge | B10: =+B11+B12 -> 185800 | C10: =+C11+C12 -> 22139 | D10: =+D11+D12 -> 207939
A11: 011 Izvršna i zakonodavna tijela, financijski i fiskalni poslovi | B11: =+POSEBNI_DIO!G14+POSEBNI_DIO!G22+POSEBNI_DIO!G28+POSEBNI_DIO!G40+POSEBNI_DIO!G46+POSEBNI_DIO!G61+POSEBNI_DIO!G79+POSEBNI_DIO!G230 -> 70000 | C11: =+POSEBNI_DIO!H14+POSEBNI_DIO!H22+POSEBNI_DIO!H28+POSEBNI_DIO!H40+POSEBNI_DIO!H46+POSEBNI_DIO!H61+POSEBNI_DIO!H79+POSEBNI_DIO!H230 -> 16439 | D11: =+POSEBNI_DIO!I14+POSEBNI_DIO!I22+POSEBNI_DIO!I28+POSEBNI_DIO!I40+POSEBNI_DIO!I46+POSEBNI_DIO!I61+POSEBNI_DIO!I79+POSEBNI_DIO!I230 -> 86439
A12: 013 Opće usluge | B12: =+POSEBNI_DIO!G201 -> 115800 | C12: =+POSEBNI_DIO!H201 -> 5700 | D12: =+POSEBNI_DIO!I201 -> 121500
A13: 02 Obrana | B13: =B14 -> 7200 | C13: =C14 -> -4600 | D13: =D14 -> 2600
A14: 022 Civilna obrana | B14: =+POSEBNI_DIO!G310 -> 7200 | C14: =+POSEBNI_DIO!H310 -> -4600 | D14: =+POSEBNI_DIO!I310 -> 2600
A15: 03 Javni red i sigurnost | B15: =B16 -> 22000 | C15: =C16 -> 3500 | D15: =D16 -> 25500
A16: 032 Usluge protupožarne zaštite | B16: =+POSEBNI_DIO!G317 -> 22000 | C16: =+POSEBNI_DIO!H317 -> 3500 | D16: =+POSEBNI_DIO!I317 -> 25500
A17: 04 Ekonomski poslovi | B17: =B18+B19+B20+B21+B22 -> 910500 | C17: =C18+C19+C20+C21+C22 -> -442690 | D17: =D18+D19+D20+D21+D22 -> 466910
A18: 042 Poljoprivreda | B18: =+POSEBNI_DIO!G67 -> 500 | C18: =+POSEBNI_DIO!H67 -> -500 | D18: =+POSEBNI_DIO!I67 -> 0
A19: 043 Gorivo i energija | B19: =+POSEBNI_DIO!G209+POSEBNI_DIO!G213+POSEBNI_DIO!G217+POSEBNI_DIO!G378 -> 10000 | C19: =+POSEBNI_DIO!H209+POSEBNI_DIO!H213+POSEBNI_DIO!H217+POSEBNI_DIO!H378 -> -1770 | D19: =+POSEBNI_DIO!I209+POSEBNI_DIO!I213+POSEBNI_DIO!I217+POSEBNI_DIO!I378 -> 8230
A20: 045 Cestovni promet | B20: =+POSEBNI_DIO!G542+POSEBNI_DIO!G476+POSEBNI_DIO!G464+POSEBNI_DIO!G361+POSEBNI_DIO!G549 -> 893000 | C20: =+POSEBNI_DIO!H542+POSEBNI_DIO!H476+POSEBNI_DIO!H464+POSEBNI_DIO!H361+POSEBNI_DIO!H549 -> -440920 | D20: =+POSEBNI_DIO!I542+POSEBNI_DIO!I476+POSEBNI_DIO!I464+POSEBNI_DIO!I361+POSEBNI_DIO!I549 -> 451180
A21: 046 Komunikacije | B21: =+POSEBNI_DIO!G221 -> 5000 | C21: =+POSEBNI_DIO!H221 -> -1800 | D21: =+POSEBNI_DIO!I221 -> 3200
A22: 047 Turizam | B22: =+POSEBNI_DIO!G55 -> 2000 | C22: =+POSEBNI_DIO!H55 -> 2300 | D22: =+POSEBNI_DIO!I55 -> 4300
A23: 05 Zaštita okoliša | B23: =+B24+B25 -> 7000 | C23: =+C24+C25 -> 82325 | D23: =+D24+D25 -> 89325
A24: 051 Gospodarenje otpadom | B24: =+POSEBNI_DIO!G384 -> 7000 | C24: =+POSEBNI_DIO!H384 -> 2000 | D24: =+POSEBNI_DIO!I384 -> 9000
A25: 052 Gospodarenje otpadnim vodama | B25: =+POSEBNI_DIO!G517 -> 0 | C25: =+POSEBNI_DIO!H517 -> 80325 | D25: =+POSEBNI_DIO!I517 -> 80325
A26: 06 Usluge unapređenja stanovanja i zajednice | B26: =B27+B28+B29+B30 -> 1368500 | C26: =C27+C28+C29+C30 -> -1031699 | D26: =D27+D28+D29+D30 -> 336801
A27: 062 Razvoj zajednice | B27: =+POSEBNI_DIO!G536+POSEBNI_DIO!G496+POSEBNI_DIO!G490+POSEBNI_DIO!G484+POSEBNI_DIO!G390+POSEBNI_DIO!G165+POSEBNI_DIO!G147+POSEBNI_DIO!G139+POSEBNI_DIO!G130+POSEBNI_DIO!G98+POSEBNI_DIO!G73+POSEBNI_DIO!G183+POSEBNI_DIO!G560+POSEBNI_DIO!G503+POSEBNI_DIO!G106+POSEBNI_DIO!G190+POSEBNI_DIO!G114+POSEBNI_DIO!G122+POSEBNI_DIO!G92 -> 994000 | C27: =+POSEBNI_DIO!H536+POSEBNI_DIO!H496+POSEBNI_DIO!H490+POSEBNI_DIO!H484+POSEBNI_DIO!H390+POSEBNI_DIO!H165+POSEBNI_DIO!H147+POSEBNI_DIO!H139+POSEBNI_DIO!H130+POSEBNI_DIO!H98+POSEBNI_DIO!H73+POSEBNI_DIO!H183+POSEBNI_DIO!H560+POSEBNI_DIO!H503+POSEBNI_DIO!H106+POSEBNI_DIO!H190+POSEBNI_DIO!H114+POSEBNI_DIO!H122+POSEBNI_DIO!H92 -> -847784 | D27: =+POSEBNI_DIO!I536+POSEBNI_DIO!I496+POSEBNI_DIO!I490+POSEBNI_DIO!I484+POSEBNI_DIO!I390+POSEBNI_DIO!I165+POSEBNI_DIO!I147+POSEBNI_DIO!I139+POSEBNI_DIO!I130+POSEBNI_DIO!I98+POSEBNI_DIO!I73+POSEBNI_DIO!I183+POSEBNI_DIO!I560+POSEBNI_DIO!I503+POSEBNI_DIO!I106+POSEBNI_DIO!I190+POSEBNI_DIO!I114+POSEBNI_DIO!I122+POSEBNI_DIO!I92 -> 146216
A28: 063 Opskrba vodom | B28: =+POSEBNI_DIO!G226+POSEBNI_DIO!G528 -> 3000 | C28: =+POSEBNI_DIO!H226+POSEBNI_DIO!H528 -> -1455 | D28: =+POSEBNI_DIO!I226+POSEBNI_DIO!I528 -> 1545
A29: 064 Ulična rasvjeta | B29: =+POSEBNI_DIO!G423+POSEBNI_DIO!G355 -> 17000 | C29: =+POSEBNI_DIO!H423+POSEBNI_DIO!H355 -> -3000 | D29: =+POSEBNI_DIO!I423+POSEBNI_DIO!I355 -> 14000
A30: 066 Rashodi vezani uz stanovanje i komunalne pogodnosti | B30: =+POSEBNI_DIO!G154+POSEBNI_DIO!G171+POSEBNI_DIO!G177+POSEBNI_DIO!G371+POSEBNI_DIO!G400+POSEBNI_DIO!G407+POSEBNI_DIO!G414+POSEBNI_DIO!G431+POSEBNI_DIO!G439+POSEBNI_DIO!G447+POSEBNI_DIO!G453 -> 354500 | C30: =+POSEBNI_DIO!H154+POSEBNI_DIO!H171+POSEBNI_DIO!H177+POSEBNI_DIO!H371+POSEBNI_DIO!H400+POSEBNI_DIO!H407+POSEBNI_DIO!H414+POSEBNI_DIO!H431+POSEBNI_DIO!H439+POSEBNI_DIO!H447+POSEBNI_DIO!H453 -> -179460 | D30: =+POSEBNI_DIO!I154+POSEBNI_DIO!I171+POSEBNI_DIO!I177+POSEBNI_DIO!I371+POSEBNI_DIO!I400+POSEBNI_DIO!I407+POSEBNI_DIO!I414+POSEBNI_DIO!I431+POSEBNI_DIO!I439+POSEBNI_DIO!I447+POSEBNI_DIO!I453 -> 175040
A31: 08 Rekreacija, kultura i religija | B31: =B32+B33+B34 -> 36000 | C31: =C32+C33+C34 -> -4050 | D31: =D32+D33+D34 -> 31950
A32: 081 Službe rekreacije i sporta | B32: =+POSEBNI_DIO!G332+POSEBNI_DIO!G338 -> 26000 | C32: =+POSEBNI_DIO!H332+POSEBNI_DIO!H338 -> -4000 | D32: =+POSEBNI_DIO!I332+POSEBNI_DIO!I338 -> 22000
A33: 082 Služba kulture | B33: =+POSEBNI_DIO!G326 -> 3000 | C33: =+POSEBNI_DIO!H326 -> -50 | D33: =+POSEBNI_DIO!I326 -> 2950
A34: 084 Religijske i druge službe | B34: =+POSEBNI_DIO!G345 -> 7000 | C34: =+POSEBNI_DIO!H345 -> 0 | D34: =+POSEBNI_DIO!I345 -> 7000
A35: 09 Obrazovanje | B35: =B36+B37+B38 -> 128000 | C35: =C36+C37+C38 -> 2675 | D35: =D36+D37+D38 -> 130675
A36: 091 Predškolsko i osnovno obrazovanje | B36: =+POSEBNI_DIO!G241+POSEBNI_DIO!G258+POSEBNI_DIO!G265+POSEBNI_DIO!G249 -> 123500 | C36: =+POSEBNI_DIO!H241+POSEBNI_DIO!H258+POSEBNI_DIO!H265+POSEBNI_DIO!H249 -> 2655 | D36: =+POSEBNI_DIO!I241+POSEBNI_DIO!I258+POSEBNI_DIO!I265+POSEBNI_DIO!I249 -> 126155
A37: 092 Srednjoškolsko obrazovanje | B37: =+POSEBNI_DIO!G271 -> 2500 | C37: =+POSEBNI_DIO!H271 -> -580 | D37: =+POSEBNI_DIO!I271 -> 1920
A38: 094 Visoka naobrazba | B38: =+POSEBNI_DIO!G277 -> 2000 | C38: =+POSEBNI_DIO!H277 -> 600 | D38: =+POSEBNI_DIO!I277 -> 2600
A39: 10 Socijalna zaštita | B39: =B40+B41+B42 -> 35000 | C39: =C40+C41+C42 -> -700 | D39: =D40+D41+D42 -> 34300
A40: 102 Starost | B40: =+POSEBNI_DIO!G293+POSEBNI_DIO!G300 -> 0 | C40: =+POSEBNI_DIO!H293+POSEBNI_DIO!H300 -> 0 | D40: =+POSEBNI_DIO!I293+POSEBNI_DIO!I300 -> 0
A41: 106 Stanovanje | B41: =+POSEBNI_DIO!G34 -> 16000 | C41: =+POSEBNI_DIO!H34 -> -6000 | D41: =+POSEBNI_DIO!I34 -> 10000
A42: 109 Aktivnosti socijalne zaštite koji nisu drugdje svrstani | B42: =+POSEBNI_DIO!G285 -> 19000 | C42: =+POSEBNI_DIO!H285 -> 5300 | D42: =+POSEBNI_DIO!I285 -> 24300

Sheet RAČUN FINANCIRANJA
B1: B) RAČUN FINANCIRANJA
A2: Članak 4.
A4: Primici i izdaci po ekonomskoj klasifikaciji i izvorima financiranja utvrđeni u Računu financiranja u Proračunu i projekcijama za 2026. i 2027. godinu mijenjaju se kako slijedi:
A6: Razred | B6: Skupina | C6: Izvor | D6: Naziv | H6: Plan za 2025. | J6: Povećanje/smanjenje | L6: Novi plan za 2025.
A7: 8 | D7: Primici od financijske imovine i zaduživanja | H7: =H8 -> 900000 | J7: =L7-H7 -> -900000 | L7: 0
B8: 84 | D8: Primici od zaduživanja | H8: =H9+H10 -> 900000 | J8: =L8-H8 -> -900000 | L8: 0
C9: 10 | D9: Opći prihodi i primici | H9: 0 | J9: =L9-H9 -> 0 | L9: 0
C10: 80 | D10: Namjenski primici od zaduživnaja | H10: 900000 | J10: =L10-H10 -> -900000 | L10: 0
A11: 5 | D11: Izdaci za financijsku imov. i otp. zajmova | H11: =H12+H13 -> 0 | J11: =L11-H11 -> 0 | L11: 0
B12: 53 | D12: Izdaci za dionice i udjele uglavnici | H12: 0 | J12: =L12-H12 -> 0 | L12: 0
B13: 54 | D13: Izdaci za otplatu glav. | H13: =H14 -> 0 | J13: =L13-H13 -> 0 | L13: 0
C14: 10 | D14: Opći prihodi i primici | H14: 0 | J14: =L14-H14 -> 0 | L14: 0

Sheet List1

Sheet POSEBNI_DIO
C1: II. POSEBNI DIO
A2: Članak 5.
A3: U članku 5. Rashodi poslovanja i rashodi za nabavu nefinancijske imovine iskazani u Proračunu i projekcijama za 2026. i 2027. godinu, raspoređuju se po korisnicima i programima u Posebnim dijelu Proračuna i mijenjaju se kako slijedi:
A5: Razred | B5: Skupina | C5: Podskupina | D5: Šifra programska Program/Projekt/Aktivnost | F5: VRSTA RASHODA I IZDATAKA | G5: PLAN 2025. GODINE | H5: POVEĆANJE/ SMANJENJE | I5: NOVI PLAN ZA 2025. GODINU
F8: UKUPNO RASHODI/ IZDACI | G8: =+G9+G196+G236+G351 -> 2700000 | H8: =+H9+H196+H236+H351 -> -1373100 | I8: =+I9+I196+I236+I351 -> 1326000
F9: RAZDJEL 001 OPĆINSKO VIJEĆE I OPĆINSKI NAČELNIK | G9: =SUM(G10) -> 219700 | H9: =SUM(H10) -> 22495 | I9: =SUM(I10) -> 242195
F10: GLAVA 00101 OPĆINSKO VIJEĆE I OPĆINSKI NAČELNIK | G10: =+G11+G127 -> 219700 | H10: =+H11+H127 -> 22495 | I10: =+I11+I127 -> 242195
F11: PROGRAM 1001 OPĆINSKO VIJEĆE I OPĆINSKI NAČELNIK | G11: =+G13+G21+G27+G33+G39+G45+G54+G60+G66+G72+G78+G97+G84+G91+G105+G113+G121 -> 149700 | H11: =+H13+H21+H27+H33+H39+H45+H54+H60+H66+H72+H78+H97+H84+H91+H105+H113+H121 -> 7864 | I11: =+I13+I21+I27+I33+I39+I45+I54+I60+I66+I72+I78+I97+I84+I91+I105+I113+I121 -> 157564
D13: A 1001 01 | E13: Redovan rad predstavničkog i izvršnog tijela | G13: =G14 -> 42504 | H13: =H14 -> 10414 | I13: =I14 -> 52918
E14: 0111 | F14: Funkcijska klasifikacija: 0111 Izvršna i zakonodavna tijela | G14: =+G15 -> 42504 | H14: =+H15 -> 10414 | I14: =+I15 -> 52918
F15: IZVOR FINANCIRANJA: 01 OPĆI PRIHODI I PRIMICI | G15: =+G16 -> 42504 | H15: =+H16 -> 10414 | I15: =+I16 -> 52918
A16: 3 | F16: Rashodi poslovanja | G16: =+G17+G18+G19 -> 42504 | H16: =+H17+H18+H19 -> 10414 | I16: =+I17+I18+I19 -> 52918
B17: 32 | F17: Materijalni rashodi | G17: 39804 | H17: =I17-G17 -> 10714 | I17: 50518
B18: 36 | F18: Pomoći dane u inozemstvo i unutar općeg proračuna | G18: 2700 | H18: =I18-G18 -> -700 | I18: 2000
B19: 37 | F19: Naknade građanima i kućanstvima na temelju osiguranja i dr. naknade | G19: 0 | H19: =I19-G19 -> 400 | I19: 400
D21: A 1001 02 | E21: Rad političkih stranaka | G21: =G22 -> 1296 | H21: =H22 -> -25 | I21: =I22 -> 1271
E22: 0111 | F22: Funkcijska klasifikacija: 0111 Izvršna i zakonodavna tijela | G22: =G23 -> 1296 | H22: =H23 -> -25 | I22: =I23 -> 1271
F23: IZVOR FINANCIRANJA: 01 OPĆI PRIHODI I PRIMICI | G23: =G24 -> 1296 | H23: =H24 -> -25 | I23: =I24 -> 1271
A24: 3 | F24: Rashodi poslovanja | G24: =G25 -> 1296 | H24: =H25 -> -25 | I24: =I25 -> 1271
B25: 38 | F25: Ostali rashodi | G25: 1296 | H25: =I25-G25 -> -25 | I25: 1271
D27: A 1001 03 | E27: Sponzorstva | G27: =G28 -> 1200 | H27: =H28 -> -1200 | I27: =I28 -> 0
E28: 0111 | F28: Funkcijska klasifikacija: 0111 Izvršna i zakonodavna tijela | G28: =G29 -> 1200 | H28: =H29 -> -1200 | I28: =I29 -> 0
F29: IZVOR FINANCIRANJA: 01 OPĆI PRIHODI I PRIMICI | G29: =G30 -> 1200 | H29: =H30 -> -1200 | I29: =I30 -> 0
A30: 3 | F30: Rashodi poslovanja | G30: =SUM(G31) -> 1200 | H30: =SUM(H31) -> -1200 | I30: =SUM(I31) -> 0
B31: 38 | F31: Ostali rashodi | G31: 1200 | H31: =I31-G31 -> -1200 | I31: 0
D33: A 1001 04 | E33: Razvoj stanovanja | G33: =G34 -> 16000 | H33: =H34 -> -6000 | I33: =I34 -> 10000
E34: 1060 | F34: Funkcijska klasifikacija: 1060 Stanovanje | G34: =G35 -> 16000 | H34: =H35 -> -6000 | I34: =I35 -> 10000
F35: IZVOR FINANCIRANJA: 01 OPĆI PRIHODI I PRIMICI | G35: =G36 -> 16000 | H35: =H36 -> -6000 | I35: =I36 -> 10000
A36: 3 | F36: Rashodi poslovanja | G36: =G37 -> 16000 | H36: =H37 -> -6000 | I36: =I37 -> 10000
B37: 37 | F37: Naknade građanima i kućanstvma na tem.osig. i dr.naknade | G37: 16000 | H37: =I37-G37 -> -6000 | I37: 10000
D39: A 1001 05 | E39: Rad vijeća nacionalnih manjina | G39: =G40 -> 700 | H39: =H40 -> 0 | I39: =I40 -> 700
E40: 0111 | F40: Funkcijska klasifikacija: 0111 Izvršna i zakonodavna tijela | G40: =G41 -> 700 | H40: =H41 -> 0 | I40: =I41 -> 700
F41: IZVOR FINANCIRANJA: 01 OPĆI PRIHODI I PRIMICI | G41: =G42 -> 700 | H41: =I41-G41 -> 0 | I41: =I42 -> 700
A42: 3 | F42: Rashodi poslovanja | G42: =G43 -> 700 | H42: =H43 -> 0 | I42: =I43 -> 700
B43: 38 | F43: Ostali rashodi | G43: 700 | H43: =I43-G43 -> 0 | I43: 700
D45: A 1001 06 | E45: Izbori | G45: =G46 -> 11500 | H45: =H46 -> 10650 | I45: =I46 -> 22150
E46: 0111 | F46: Funkcijska klasifikacija: 0111 Izvršna i zakonodavna tijela | G46: =G47+G48+G51 -> 11500 | H46: =H47+H48+H51 -> 10650 | I46: =I47+I48+I51 -> 22150
F47: IZVOR FINANCIRANJA: 01 OPĆI PRIHODI I PRIMICI | G47: 6000 | H47: =I47-G47 -> 8383.02 | I47: 14383.02
F48: IZVOR FINANCIRANJA: 05 POMOĆI | G48: 5000 | H48: =I48-G48 -> 2766.98 | I48: 7766.98
A49: 3 | F49: Rashodi poslovanja | G49: =G50 -> 11000 | H49: =H50 -> 11150 | I49: =I50 -> 22150
B50: 32 | F50: Materijalni rashodi | G50: 11000 | H50: =I50-G50 -> 11150 | I50: 22150
F51: IZVOR FINANCIRANJA: 01 OPĆI PRIHODI I PRIMICI | G51: 500 | H51: =I51-G51 -> -500 | I51: 0
B52: 38 | F52: Ostali rashodi | G52: 500 | H52: =I52-G52 -> -500 | I52: 0
D54: A 1001 07 | E54: Turizam | G54: =+G55 -> 2000 | H54: =+H55 -> 2300 | I54: =+I55 -> 4300
E55: 0473 | F55: Funkcijska klasifikacija: 0473 Turizam | G55: =+G57 -> 2000 | H55: =+H57 -> 2300 | I55: =+I57 -> 4300
F56: IZVOR FINANCIRANJA: 01 OPĆI PRIHODI I PRIMICI | G56: =+G57 -> 2000 | H56: =I56-G56 -> 2300 | I56: =+I57 -> 4300
A57: 3 | F57: Rashodi poslovanja | G57: =+G58 -> 2000 | H57: =+H58 -> 2300 | I57: =+I58 -> 4300
B58: 38 | F58: Ostali rashodi | G58: 2000 | H58: =I58-G58 -> 2300 | I58: 4300
D60: A 1001 08 | E60: Povrat kratkoročnih zajmova | G60: =G61 -> 0 | H60: =H61 -> 0 | I60: =I61 -> 0
E61: 0111 | F61: Funkcijska klasifikacija: 0111 Izvršna i zakonodavna tijela | G61: =G63 -> 0 | H61: =H63 -> 0 | I61: =I63 -> 0
F62: IZVOR FINANCIRANJA: 01 OPĆI PRIHODI I PRIMICI | G62: =+G63 -> 0 | H62: =I62-G62 -> 0 | I62: =+I63 -> 0
A63: 5 | F63: Izdaci za financijsku imovinu i otplate zajmova | G63: =G64 -> 0 | H63: =H64 -> 0 | I63: =I64 -> 0
B64: 54 | F64: Izdaci za otplatu glavnice primljenih kredita i zajmova | G64: 0 | H64: =I64-G64 -> 0 | I64: 0
D66: A 1001 09 | E66: Poljoprivreda | G66: =+G67 -> 500 | H66: =+H67 -> -500 | I66: =+I67 -> 0
E67: 0421 | F67: Funkcijska klasifikacija: 0421 Poljoprivreda | G67: =G68 -> 500 | H67: =H68 -> -500 | I67: =I68 -> 0
F68: IZVOR FINANCIRANJA: 04 PRIHODI ZA POSEBNE NAMJENE | G68: =G69 -> 500 | H68: =H69 -> -500 | I68: =I69 -> 0
A69: 3 | F69: Rashodi poslovanja | G69: =G70 -> 500 | H69: =H70 -> -500 | I69: =I70 -> 0
B70: 32 | F70: Materijalni rashodi | G70: 500 | H70: =I70-G70 -> -500 | I70: 0
D72: A 1001 10 | E72: Poticanje energetskog razvoja kućanstva | G72: =G73 -> 5000 | H72: =H73 -> -1000 | I72: =I73 -> 4000
E73: 0620 | F73: Funkcijska klasifikacija: 0620 Razvoj zajednice | G73: =G74 -> 5000 | H73: =H74 -> -1000 | I73: =I74 -> 4000
F74: IZVOR FINANCIRANJA: 01 OPĆI PRIHODI I PRIMICI | G74: =G75 -> 5000 | H74: =H75 -> -1000 | I74: =I75 -> 4000
A75: 3 | F75: Rashodi poslovanja | G75: =G76 -> 5000 | H75: =H76 -> -1000 | I75: =I76 -> 4000
B76: 37 | F76: Naknade građanima i kućanstvima na temelju osiguranja i dr. naknade | G76: 5000 | H76: =I76-G76 -> -1000 | I76: 4000
D78: A 1001 11 | E78: Manifestacije | G78: =G79 -> 9000 | H78: =H79 -> -4400 | I78: =I79 -> 4600
E79: 0111 | F79: Funkcijska klasifikacija: 0111 Izvršna i zakonodavna tijela | G79: =G80 -> 9000 | H79: =H80 -> -4400 | I79: =I80 -> 4600
F80: IZVOR FINANCIRANJA: 01 OPĆI PRIHODI I PRIMICI | G80: =G81 -> 9000 | H80: =I80-G80 -> -4400 | I80: =I81 -> 4600
A81: 3 | F81: Rashodi poslovanja | G81: =+G82 -> 9000 | H81: =+H82 -> -4400 | I81: =+I82 -> 4600
B82: 32 | F82: Materijalni rashodi | G82: 9000 | H82: =I82-G82 -> -4400 | I82: 4600
D84: A 1001 12 | E84: Povrat dugoročnih kredita | G84: =G85 -> 0 | H84: =H85 -> 0 | I84: =I85 -> 0
E85: 0111 | F85: Funkcijska klasifikacija: 0111 Izvršna i zakonodavna tijela | G85: =G88 -> 0 | H85: =H88 -> 0 | I85: =I88 -> 0
F86: IZVOR FINANCIRANJA: 01 OPĆI PRIHODI I PRIMICI | G86: 0 | H86: 0 | I86: 0
F87: IZVOR FINANCIRANJA : 04 POSEBNE NAMJENE | G87: 0 | H87: 0 | I87: 0
A88: 5 | F88: Izdaci za financijsku imovinu i otplate zajmova | G88: =G89 -> 0 | H88: =H89 -> 0 | I88: =I89 -> 0
B89: 54 | F89: Izdaci za otplatu glavnice primljenih kredita i zajmova | G89: 0 | H89: 0 | I89: 0
D91: A 1001 13 | E91: Sufinanciranje priključaka na optički Internet | G91: =G92 -> 0 | H91: =H92 -> 4500 | I91: =I92 -> 4500
E92: 0620 | F92: Funkcijska klasifikacija: 0620 Razvoj zajednice | G92: =G93 -> 0 | H92: =H93 -> 4500 | I92: =I93 -> 4500
F93: IZVOR FINANCIRANJA: 01 OPĆI PRIHODI I PRIMICI | G93: =G94 -> 0 | H93: =H94 -> 4500 | I93: =I94 -> 4500
A94: 3 | F94: Rashodi poslovanja | G94: =G95 -> 0 | H94: =H95 -> 4500 | I94: =I95 -> 4500
B95: 37 | F95: Naknade građanima i kućanstvima na temelju osiguranja i dr. naknade | G95: 0 | H95: =I95-G95 -> 4500 | I95: 4500
D97: K 1001 01 | E97: Nematerijalna imovina | G97: =+G98 -> 10000 | H97: =+H98 -> 5125 | I97: =+I98 -> 15125
E98: 0620 | F98: Funkcijska klasifikacija: 0620 Razvoj zajednice | G98: =+G99+G100+G101 -> 10000 | H98: =+H99+H100+H101 -> 5125 | I98: =+I99+I100+I101 -> 15125
F99: IZVOR FINANCIRANJA: 01 OPĆI PRIHODI I PRIMICI | G99: =+G102-G100-G101 -> 10000 | H99: =I99-G99 -> -575 | I99: =+I102-I100-I101 -> 9425
F100: IZVOR FINANCIRANJA: 05 POMOĆI | G100: 0 | H100: =I100-G100 -> 5700 | I100: 5700
F101: IZVOR FINANCIRANJA : 04 POSEBNE NAMJENE | G101: 0 | H101: =I101-G101 -> 0 | I101: 0
A102: 4 | F102: Rashodi za nabavu nefinancijske imovine | G102: =+G126+G103 -> 10000 | H102: =+H126+H103 -> 5125 | I102: =+I126+I103 -> 15125
B103: 41 | F103: Rashodi za nabavu neproizvedene dugotrajne imovine | G103: 10000 | H103: =I103-G103 -> 5125 | I103: 15125
D105: K 1001 02 | E105: Izrada prostornog plana uređenja Općine Hlebine | G105: =+G106 -> 35000 | H105: =I105-G105 -> -9500 | I105: =+I106 -> 25500
E106: 0620 | F106: Funkcijska klasifikacija: 0620 Razvoj zajednice | G106: =+G107+G108+G109 -> 35000 | H106: =+H107+H108+H109 -> -9500 | I106: =+I107+I108+I109 -> 25500
F107: IZVOR FINANCIRANJA: 01 OPĆI PRIHODI I PRIMICI | G107: =+G110-G108-G109 -> 5000 | H107: =I107-G107 -> -5000 | I107: =+I110-I108-I109 -> 0
F108: IZVOR FINANCIRANJA: 05 POMOĆI | G108: 30000 | H108: =+I108-G108 -> -4500 | I108: 25500
F109: IZVOR FINANCIRANJA : 04 POSEBNE NAMJENE | G109: 0 | H109: =I109-G109 -> 0 | I109: 0
A110: 4 | F110: Rashodi za nabavu nefinancijske imovine | G110: =+G137+G111 -> 35000 | H110: =I110-G110 -> -9500 | I110: =+I137+I111 -> 25500
B111: 42 | F111: Rashodi za nabavu proizvedene dugotrajne imovine | G111: 35000 | H111: =I111-G111 -> -9500 | I111: 25500
D113: K 1001 03 | E113: Digitalizacija - snimka groblja | G113: =+G114 -> 10000 | H113: =I113-G113 -> -10000 | I113: =+I114 -> 0
E114: 0620 | F114: Funkcijska klasifikacija: 0620 Razvoj zajednice | G114: =+G115+G116+G117 -> 10000 | H114: =I114-G114 -> -10000 | I114: =+I115+I116+I117 -> 0
F115: IZVOR FINANCIRANJA: 01 OPĆI PRIHODI I PRIMICI | G115: =+G118-G116-G117 -> 10000 | H115: =I115-G115 -> -10000 | I115: =+I118-I116-I117 -> 0
F116: IZVOR FINANCIRANJA: 05 POMOĆI | G116: 0 | H116: =I116-G116 -> 0 | I116: 0
F117: IZVOR FINANCIRANJA : 04 POSEBNE NAMJENE | G117: 0 | H117: =I117-G117 -> 0 | I117: 0
A118: 4 | F118: Rashodi za nabavu nefinancijske imovine | G118: =+G119 -> 10000 | H118: =I118-G118 -> -10000 | I118: =+I119 -> 0
B119: 41 | F119: Rashodi za nabavu neproizvedene dugotrajne imovine | G119: 10000 | H119: =I119-G119 -> -10000 | I119: 0
...
