Workbook

Sheet OPĆI DIO
B2: Na temelju članka 45. Zakona o proračunu ("Narodne novine" broj 144/21) i članka 31. Statuta Općine Hlebine ("Službeni glasnik Koprivničko-križevačke županije" broj 10/09., 5/13., 3/18., 6/20. i 3/21), Općinsko vijeće Općine Hlebine na 22. sjednici održanoj 18. prosinca 2023. donijelo je
B5: IZMJENE I DOPUNE PRORAČUNA OPĆINE HLEBINE ZA 2023. GODINU I PROJEKCIJA ZA 2024. I 2025. GODINU
C7: I. OPĆI DIO
B8: Članak 1.
B10: U Proračunu Općine Hlebine za 2023. godinu i projekcijama za 2024. i 2025. godinu ("Službeni glasnik Koprivničko-križevačke županije" broj 39/22), (u daljnjem tekstu: Proračun) u članku 1. mijenja se: A. Račun prihoda i rashoda i B. Račun financiranja kako slijedi:
C12: BROJ RAČUNA | D12: OPIS | E12: Proračun za 2023. | F12: IZMJENA | G12: NOVI PRORAČUN ZA 2023.
C15: A. | D15: RAČUN PRIHODA I RASHODA
C16: 6 | D16: Prihodi poslovanja | E16: =SUM('OPĆI DIO A'!E13) -> 1634083.2 | F16: ='OPĆI DIO A'!F13 -> -694770.42 | G16: =+'OPĆI DIO A'!G15+'OPĆI DIO A'!G27+'OPĆI DIO A'!G32+'OPĆI DIO A'!G55+'OPĆI DIO A'!G70+'OPĆI DIO A'!G78+'OPĆI DIO A'!G86 -> 939312.8
C17: 7 | D17: Prihodi od prodaje nefinancijske imovine | E17: 0 | F17: 0 | G17: =+'OPĆI DIO A'!G108 -> 4700
C18: 6+7 | D18: UKUPNO PRIHODI I PRIMICI | E18: =SUM(E16:E17) -> 1634083.2 | F18: =SUM(F16,F17) -> -694770.42 | G18: =SUM(G16,G17) -> 944012.8
C19: 3 | D19: Rashodi poslovanja | E19: =SUM('OPĆI DIO A'!E115) -> 679938.95 | F19: ='OPĆI DIO A'!F115 -> -114560.79 | G19: ='OPĆI DIO A'!G115 -> 565378.16
C20: 4 | D20: Rashodi za nabavu nefinancijske imovine | E20: =SUM('OPĆI DIO A'!E122) -> 1093503.2 | F20: ='OPĆI DIO A'!F122 -> -693723.22 | G20: ='OPĆI DIO A'!G122 -> 399780
C21: 3+4 | D21: UKUPNO RASHODI I IZDACI | E21: =SUM(E19:E20) -> 1773442.2 | F21: =SUM(F19:F20) -> -808284.01 | G21: =SUM(G19:G20) -> 965158.16
C23: (6+7)-(3+4) | D23: VIŠAK (+) / MANJAK (-) | E23: =E18-E21 -> -139358.95 | F23: =+F18-F21 -> 113513.59 | G23: =G18-G21 -> -21145.36
C25: B. | D25: RAČUN FINANCIRANJA
C26: 8 | D26: NETO ZADUŽIVANJA/FINANCIRANJA | E26: 0 | F26: 0 | G26: 0
C27: 5 | D27: IZDACI ZA FINANCIJSKU IMOVINU I OTPLATE ZAJMOVA | E27: =+'OPĆI DIO A'!E132 -> 0 | F27: =+'OPĆI DIO A'!F132 -> 10841.84 | G27: =+'OPĆI DIO A'!G132 -> 10841.84
C28: 8-5 | D28: NETO FINANCIRANJA | E28: =+E26-E27 -> 0 | F28: =+F26-F27 -> -10841.84 | G28: =+G26-G27 -> -10841.84
C30: C. | D30: VIŠAK PRIHODA I PRIMITAKA
C31: 1.=(6+7+8) | D31: UKUPNO PRIHODI I PRIMICI | E31: =E18+E26 -> 1634083.2 | F31: =+G31-E31 -> -690070.42 | G31: =+G18+G26 -> 944012.8
C32: 2.=(3+4+5) | D32: UKUPNO RASHODI I IZDACI | E32: =E19+E20+E27 -> 1773442.2 | F32: =+G32-E32 -> -797442.17 | G32: =+G21-G28 -> 976000
C33: 9 | D33: VIŠAK (+) / MANJAK (-) | E33: =+E31-E32 -> -139358.95 | F33: =+F31-F32 -> 107371.75 | G33: =+G31-G32 -> -31987.2

Sheet OPĆI DIO A
A2: Članak 2.
A4: U članku 2. Prihodi i rashodi, te primici i izdaci po ekonomskoj klasifikaciji utvrđeni u A. Računu prihoda i rashoda mijenjaju se kako slijedi:
A7: A. RAČUN PRIHODA I RASHODA
A9: Razred | B9: Skupina | C9: Podskupina | D9: PRIHODI/PRIMICI I RASHODI/IZDACI | E9: PLAN ZA 2023. GODINU | F9: IZMJENA | G9: NOVI PLAN ZA 2023.GODINU
D12: UKUPNO PRIHODI I PRIMICI | E12: =E13 -> 1634083.2 | F12: =F13 -> -694770.42 | G12: =G13 -> 944012.8
A13: 6 | D13: PRIHODI POSLOVANJA | E13: =SUM(E14,E31,E54,E69,E85,E77)+E102 -> 1634083.2 | F13: =SUM(F14,F31,F54,F69,F85,F77,F102) -> -694770.42 | G13: =+G14+G32+G55+G70+G78+G86+G103+G108 -> 944012.8
D14: IZVOR 01 OPĆI PRIHODI I PRIMICI | E14: =E15+E27 -> 419669.52 | F14: =+G14-E14 -> 50938.67 | G14: =G15+G27 -> 470608.19
B15: 61 | C15: 61 | D15: Prihodi od poreza | E15: 196960.65 | F15: =+G15-E15 -> 38247.54 | G15: =+G16+G19+G24 -> 235208.19
C16: 611 | D16: Porez i prirez na dohodak | E16: 0 | F16: 0 | G16: 217099.16
C17: 6111 | D17: Porez i prirez na dohodak od nesamostalnog rada | E17: =E18 -> 1449000 | F17: =F18 -> 3702.62 | G17: =SUM(E17:F17) -> 1452702.6
C18: 61111 | D18: Porez i prirez na dohodak od nesamostalnog rada i drugih samostalnih djelatnosti | E18: 1449000 | F18: 3702.62 | G18: =SUM(E18:F18) -> 1452702.6
C19: 613 | D19: Porezi na imovinu | E19: 0 | F19: =F20+F22 -> 0 | G19: 16509.03
C20: 6131 | D20: Stalni porezi na nepokretnu imovinu | E20: =E21 -> 500 | F20: =F21 -> 0 | G20: =SUM(E20:F20) -> 500
C21: 61315 | D21: Porez na korištenje javnih površina | E21: 500 | F21: 0 | G21: =SUM(E21:F21) -> 500
C22: 6134 | D22: Povremeni porezi na imovinu | E22: =E23 -> 112000 | F22: =SUM(F23) -> 0 | G22: =SUM(E22:F22) -> 112000
C23: 61341 | D23: Porez na promet nekretnina | E23: 112000 | F23: 0 | G23: =SUM(E23:F23) -> 112000
C24: 614 | D24: Porezi na robu i usluge | E24: 0 | F24: =F25 -> 0 | G24: 1600
C25: 6142 | D25: Porez na promet | E25: =E26 -> 3000 | F25: =F26 -> 0 | G25: =SUM(E25:F25) -> 3000
C26: 61424 | D26: Porez na potrošnju alkoholnih i bezalkoholnih pića | E26: 3000 | F26: 0 | G26: =SUM(E26:F26) -> 3000
B27: 63 | C27: 63 | D27: Pomoći iz inozemstva (darovnice) i od subjekata unutar općeg proračuna | E27: 222708.87 | F27: =+G27-E27 -> 12691.13 | G27: =+G28 -> 235400
C28: 633 | D28: Pomoći iz proračuna drugih proračuna | E28: 222708.87 | F28: =+G28-E28 -> 12691.13 | G28: 235400
C29: 6331 | D29: Tekuće pomoći proračunu iz drugih proračuna | E29: =E30 -> 1600000 | F29: =F30 -> 0 | G29: =SUM(E29:F29) -> 1600000
C30: 63311 | D30: Tekuće pomoći iz državnog proračuna (državne kompenzacije) | E30: 1600000 | F30: 0 | G30: =SUM(E30:F30) -> 1600000
D31: IZVOR 05 POMOĆI | E31: =SUM(E32) -> 1037759.6 | F31: =+G31-E31 -> -725654.03 | G31: =+G32 -> 312105.61
B32: 63 | C32: 63 | D32: Pomoći iz inozemstva (darovnice) i od subjekata unutar općeg proračuna | E32: 1037759.6 | F32: =+G32-E32 -> -725654.03 | G32: =+G33+G45+G50 -> 312105.61
C33: 633 | D33: Pomoći iz proračuna drugih proračuna | E33: 0 | F33: =+G33-E33 -> 243005.61 | G33: 243005.61
C34: 6331 | D34: Tekuće pomoći proračunu iz drugih proračuna | E34: =SUM(E35:E37) -> 177700 | F34: =+G34-E34 -> 12240.36 | G34: =SUM(E34:F34) -> 177700
C35: 63312 | D35: Tekuće pomoći iz županijskih proračuna (drva) | E35: 14000 | F35: =+G35-E35 -> 12240.36 | G35: =SUM(E35,F35) -> 14000
C36: 63312 | D36: Tekuće pomoći iz županijskih proračuna (dezinsekcija) | E36: 9000 | F36: =+G36-E36 -> 12240.36 | G36: =SUM(E36:F36) -> 5500
C37: 63314 | D37: Tekuće pomoći iz općinskih proračuna (pročelnik i komunalni redar) | E37: 154700 | F37: =+G37-E37 -> 12240.36 | G37: =SUM(E37:F37) -> 158200
C38: 6332 | D38: Kapitalne pomoći proračunu iz drugih proračuna | E38: =SUM(E39:E44) -> 1500000 | F38: =+G38-E38 -> 12240.36 | G38: =SUM(G39:G44) -> 1250000
C39: 63321 | D39: Kapitalne pomoći iz državnog proračuna (Mindemogr. - LED- Žup) | E39: 200000 | F39: =+G39-E39 -> 12240.36 | G39: =SUM(E39:F39) -> 200000
C40: 63321 | D40: Kapitalne pomoći iz državnog proračuna (MRREU - sport.građ) | E40: 600000 | F40: =+G40-E40 -> 12240.36 | G40: =SUM(E40:F40) -> 230000
C41: 63321 | D41: Kapitalne pomoći iz državnog proračuna (Min. kulture - Galerija) | E41: 500000 | F41: =+G41-E41 -> 12240.36 | G41: =SUM(E41:F41) -> 400000
C42: 63321 | D42: Kapitalne pomoći iz državnog proračuna (Ministarstvo gosp.) | E42: 0 | F42: =+G42-E42 -> 12240.36 | G42: =SUM(E42:F42) -> 20000
C43: 63322 | D43: Kapitalne pomoći iz županijskih proračuna (KCKŽŽ) kanalizacija | E43: 200000 | F43: =+G43-E43 -> 12240.36 | G43: =SUM(E43:F43) -> 200000
C44: 63322 | D44: Kapitalne pomoći iz … LAG | E44: 0 | F44: =+G44-E44 -> 12240.36 | G44: =SUM(E44:F44) -> 200000
C45: 634 | D45: Pomoći od izvanproračunskih korisnika | E45: 0 | F45: =+G45-E45 -> 46600 | G45: 46600
C46: 6341 | D46: Tekuće pomoći od izvanproračunskih korisnika | E46: =E47+E48+E49 -> 35000 | F46: =+G46-E46 -> 12240.36 | G46: =SUM(E46:F46) -> 260200
C47: 63414 | D47: Tekuće pomoći od HZMO-a, HZZ-a i HZZO-a | E47: 35000 | F47: =+G47-E47 -> 12240.36 | G47: =SUM(E47:F47) -> 62700
...

Sheet List2
B3: 41 | C3: 42 | D3: 45
I4: 39717.84
B5: 1000 | C5: 9500 | D5: 140500 | I5: 6636.14
C6: 665000 | D6: 45000 | I6: 2654.45
C7: 700 | D7: 10000 | I7: 9954.21
C8: 1500 | I8: 2654.46
C9: 45050 | I9: 3318.07
C10: 10000 | I10: 1327.23
C11: 184300 | I11: 3318.07
C12: 69000 | I12: 1459.95
I13: 2123.56
I14: 398.17
I15: 2000
I16: 7963.37
I17: 8228.81
B18: =SUM(B4:B17) -> 1000 | C18: =SUM(C5:C17) -> 985050 | D18: =SUM(D5:D17) -> 195500 | F18: =SUM(B18:E18) -> 1181550 | I18: 1327.23
I19: 4645.3
I20: 265.4
I21: 13272.28
I22: 3981.68
I23: 23890.11
I27: =SUM(I1:I26) -> 139136.33
I30: 139667.26
I33: =+I30-I27 -> 530.93
I34: 398.17
I35: =+I33+I34 -> 929.1

Sheet POSEBNI_DIO
C1: II. POSEBNI DIO
A2: Članak 3.
A4: U članku 3. brojka "1.773.442,17" zamjenjuje se brojkom "976.000,00", te se provode izmjene i dopune rashoda i izataka po nositeljima, korisnicima, programima i podrobnim namjenama u Posebnom dijelu Proračuna kako slijedi:
A6: Razred | B6: Skupina | C6: Podskupina | D6: Šifra programska Program/Projekt/Aktivnost | F6: VRSTA RASHODA I IZDATAKA | G6: PLAN ZA 2023. GODINU | H6: IZMJENA | I6: NOVI PLAN ZA 2023. GODINU
F9: UKUPNO RASHODI/ IZDACI | G9: =SUM(G10,G129,G198,G340) -> 1773442.2 | H9: =H10+H129+H198+H340 -> -787888.27 | I9: =I10+I129+I198+I340 -> 976000
F10: RAZDJEL 001 OPĆINSKO VIJEĆE I OPĆINSKI NAČELNIK | G10: =SUM(G11) -> 888313.76 | H10: =SUM(H11) -> -611884.26 | I10: =SUM(I11) -> 284929.5
F11: GLAVA 00101 OPĆINSKO VIJEĆE I OPĆINSKI NAČELNIK | G11: =SUM(G12)+G99 -> 888313.76 | H11: =H12+H99 -> -611884.26 | I11: =SUM(I12)+I99 -> 284929.5
F12: PROGRAM 1001 OPĆINSKO VIJEĆE I OPĆINSKI NAČELNIK | G12: =G14+G41+G47+G53+G59+G65+G79+G86 -> 78704.62 | H12: =H14+H41+H47+H53+H59+H65+H79+H86+H73 -> 14224.88 | I12: =I14+I41+I47+I53+I59+I65+I79+I86+I73+I91 -> 101429.5
D14: A 1001 01 | E14: Redovan rad predstavničkog i izvršnog tijela | G14: =G15 -> 45555.16 | H14: =+I14-G14 -> -6309.11 | I14: =I15 -> 39246.05
E15: 0111 | F15: Funkcijska klasifikacija: 0111 Izvršna i zakonodavna tijela | G15: =G16 -> 45555.16 | H15: =H16 -> -6309.11 | I15: =I16 -> 39246.05
F16: IZVOR FINANCIRANJA: 01 OPĆI PRIHODI I PRIMICI | G16: =G17 -> 45555.16 | H16: =H17 -> -6309.11 | I16: =I17 -> 39246.05
A17: 3 | F17: Rashodi poslovanja | G17: =G18+G35+G31 -> 45555.16 | H17: =+I17-G17 -> -6309.11 | I17: =I18+I31+I35 -> 39246.05
B18: 32 | F18: Materijalni rashodi | G18: 39717.84 | H18: =+I18-G18 -> -2471.79 | I18: 37246.05
D19: 3291 | F19: Naknade za rad predstavničkih i izvršnih tijela, povjerenstava i slično | G19: 0 | H19: 0 | I19: =G19+H19 -> 0
E20: 32911 | F20: Naknade za rad članovima predstavničkih i izvršnih tijela i upravnih vijeća | G20: 0 | H20: 0 | I20: =G20+H20 -> 0
D21: 3292 | F21: Premije osiguranja | G21: 0 | H21: 0 | I21: =G21+H21 -> 0
D22: 3293 | F22: Reprezentacija | G22: 0 | H22: 0 | I22: =G22+H22 -> 0
D23: 3294 | F23: Članarine i norme | G23: 0 | H23: 0 | I23: =G23+H23 -> 0
E24: 32941 | F24: Tuzemne članarine | G24: 0 | H24: 0 | I24: =G24+H24 -> 0
D25: 3295 | F25: Pristojbe i naknade | G25: 0 | H25: 0 | I25: =G25+H25 -> 0
E26: 32951 | F26: Upravne i administrativne pristojbe | G26: 0 | H26: 0 | I26: =G26+H26 -> 0
E27: 32953 | F27: Javnobilježničke pristojbe | G27: 0 | H27: 0 | I27: =G27+H27 -> 0
D28: 3299 | F28: Ostali nespomenuti rashodi poslovanja | G28: 0 | H28: 0 | I28: =G28+H28 -> 0
E29: 32991 | F29: Rashodi protokola (vijenci, cvijeće, svijeće i slično) | G29: 0 | H29: 0 | I29: =G29+H29 -> 0
E30: 32999 | F30: Ostali nespomenuti rashodi poslovanja | G30: 0 | H30: 0 | I30: =G30+H30 -> 0
B31: 36 | F31: Pomoći dane u inozemstvo i unutar općeg proračuna | G31: 5043.47 | H31: =+I31-G31 -> -3043.47 | I31: 2000
D32: 3661 | F32: Tekuće pomoći proračunskim korisnicima drugih proračuna | G32: 7000 | H32: =H33+H34 -> 0 | I32: =G32+H32 -> 7000
E33: 36611 | F33: Tekuće pomoći proračunskim korisnicima drugih proračuna (Knjižnica - sufinanciranje članstva) | G33: 2000 | H33: 0 | I33: =G33+H33 -> 2000
E34: 36611 | F34: Tekuće pomoći proračunskim korisnicima drugih proračuna (Knjižnica - Bibliobus) | G34: 5000 | H34: 0 | I34: =G34+H34 -> 5000
B35: 37 | F35: Naknade građanima i kućanstvima na temelju osiguranja i dr. naknade | G35: 793.85 | H35: =+I35-G35 -> -793.85 | I35: 0
D36: 3721 | F36: Naknade građanima i kućanstvima u novcu | G36: =SUM(G37) -> 5000 | H36: 0 | I36: =G36+H36 -> 5000
E37: 37219 | F37: Ostale naknade iz proračuna u novcu (nagrade za CK…) | G37: 5000 | H37: 0 | I37: =G37+H37 -> 5000
D38: 3291 | F38: Naknade za rad predstavničkih i izvršnih tijela, povjerenstava i slično | G38: =G39 -> 7500 | H38: =H39 -> 0 | I38: =G38+H38 -> 7500
E39: 32912 | F39: Naknade članovima povjerenstava | G39: 7500 | H39: 0 | I39: =G39+H39 -> 7500
D41: A 1001 02 | E41: Rad političkih stranaka | G41: =+G42 -> 1296 | H41: =+I41-G41 -> -288 | I41: =+I42 -> 1008
E42: 0111 | F42: Funkcijska klasifikacija: 0111 Izvršna i zakonodavna tijela | G42: =+G43 -> 1296 | H42: =+I42-G42 -> -288 | I42: =+I43 -> 1008
F43: IZVOR FINANCIRANJA: 01 OPĆI PRIHODI I PRIMICI | G43: =+G44 -> 1296 | H43: =+I43-G43 -> -288 | I43: =+I44 -> 1008
A44: 3 | F44: Rashodi poslovanja | G44: =+G45 -> 1296 | H44: =+I44-G44 -> -288 | I44: =+I45 -> 1008
B45: 38 | F45: Ostali rashodi | G45: 1296 | H45: =+I45-G45 -> -288 | I45: 1008
D47: A 1001 03 | E47: Sponzorstva | G47: =SUM(G50) -> 1327.23 | H47: =+I47-G47 -> -627.23 | I47: =+I50 -> 700
...

Sheet List3

Sheet List4

Sheet List1
